BEGIN:VCALENDAR
VERSION:2.0
PRODID:-//District Bar &amp; Kitchen - ECPv6.15.12.2//NONSGML v1.0//EN
CALSCALE:GREGORIAN
METHOD:PUBLISH
X-ORIGINAL-URL:https://districtbk.com
X-WR-CALDESC:Events for District Bar &amp; Kitchen
REFRESH-INTERVAL;VALUE=DURATION:PT1H
X-Robots-Tag:noindex
X-PUBLISHED-TTL:PT1H
BEGIN:VTIMEZONE
TZID:America/New_York
BEGIN:DAYLIGHT
TZOFFSETFROM:-0500
TZOFFSETTO:-0400
TZNAME:EDT
DTSTART:20250309T070000
END:DAYLIGHT
BEGIN:STANDARD
TZOFFSETFROM:-0400
TZOFFSETTO:-0500
TZNAME:EST
DTSTART:20251102T060000
END:STANDARD
BEGIN:DAYLIGHT
TZOFFSETFROM:-0500
TZOFFSETTO:-0400
TZNAME:EDT
DTSTART:20260308T070000
END:DAYLIGHT
BEGIN:STANDARD
TZOFFSETFROM:-0400
TZOFFSETTO:-0500
TZNAME:EST
DTSTART:20261101T060000
END:STANDARD
BEGIN:DAYLIGHT
TZOFFSETFROM:-0500
TZOFFSETTO:-0400
TZNAME:EDT
DTSTART:20270314T070000
END:DAYLIGHT
BEGIN:STANDARD
TZOFFSETFROM:-0400
TZOFFSETTO:-0500
TZNAME:EST
DTSTART:20271107T060000
END:STANDARD
END:VTIMEZONE
BEGIN:VEVENT
DTSTART;TZID=America/New_York:20260201T120000
DTEND;TZID=America/New_York:20260201T150000
DTSTAMP:20260422T072352
CREATED:20260119T210349Z
LAST-MODIFIED:20260119T210356Z
UID:2568-1769947200-1769958000@districtbk.com
SUMMARY:Sunday Social with Gypsy Sparrow
DESCRIPTION:Ease into February with the nostalgic\, soulful sounds of Gypsy Sparrow. Whether you’re stopping in for a late brunch or a hearty Sunday lunch\, our menu has something for everyone. Try our Southern Comfort Breakfast or the District Skillet paired with a signature Bloody Mary for the ultimate Sunday vibe.
URL:https://districtbk.com/event/sunday-social-with-gypsy-sparrow/
LOCATION:District Bar & Kitchen\, 110 S. Broadway St.\, Ocala\, Florida\, 34471
CATEGORIES:Live Music
ATTACH;FMTTYPE=image/webp:https://districtbk.com/wp-content/uploads/2025/09/Gypsy-sparrow.webp
END:VEVENT
BEGIN:VEVENT
DTSTART;TZID=America/New_York:20260205T180000
DTEND;TZID=America/New_York:20260205T210000
DTSTAMP:20260422T072352
CREATED:20260205T140845Z
LAST-MODIFIED:20260205T140845Z
UID:2572-1770314400-1770325200@districtbk.com
SUMMARY:Bourbon\, Bites\, and Peaches and Cream
DESCRIPTION:Start your weekend early with the high-energy R&B sounds of Peaches and Cream. It’s the perfect night to dive into our Philly Cheese Steak Egg Rolls or our famous DBK Dip\, made with our signature brisket and beef blend. Pair your meal with a hand-shaken cocktail or a pour of premium bourbon while you enjoy the soulful vibes.
URL:https://districtbk.com/event/bourbon-bites-and-peaches-and-cream/
LOCATION:District Bar & Kitchen\, 110 S. Broadway St.\, Ocala\, Florida\, 34471
CATEGORIES:Live Music
ATTACH;FMTTYPE=image/jpeg:https://districtbk.com/wp-content/uploads/2025/11/Peaches-and-Karim-2.jpg
END:VEVENT
BEGIN:VEVENT
DTSTART;TZID=America/New_York:20260206T180000
DTEND;TZID=America/New_York:20260206T210000
DTSTAMP:20260422T072352
CREATED:20260205T141035Z
LAST-MODIFIED:20260205T141035Z
UID:2574-1770400800-1770411600@districtbk.com
SUMMARY:Vintage Jazz & Detroit-Style Pizza with Miranda Madison
DESCRIPTION:Step into an evening of timeless elegance with vintage songstress Miranda Madison. As she brings the classic sounds of jazz and blues to the stage\, we’ll be serving up Ocala’s favorite Detroit-style pizzas. Try “The Butcher Block” or our “Farmer’s Market” pie\, paired with a crisp glass of wine or a signature martini for a sophisticated Friday night out.
URL:https://districtbk.com/event/vintage-jazz-detroit-style-pizza-with-miranda-madison/
LOCATION:District Bar & Kitchen\, 110 S. Broadway St.\, Ocala\, Florida\, 34471
CATEGORIES:Live Music
ATTACH;FMTTYPE=image/webp:https://districtbk.com/wp-content/uploads/2025/09/enhanced_photo-e1756897950799.webp
END:VEVENT
BEGIN:VEVENT
DTSTART;TZID=America/New_York:20260207T120000
DTEND;TZID=America/New_York:20260207T150000
DTSTAMP:20260422T072352
CREATED:20260205T141205Z
LAST-MODIFIED:20260205T141205Z
UID:2576-1770465600-1770476400@districtbk.com
SUMMARY:Saturday Acoustic Lunch with Randy
DESCRIPTION:Join us for a relaxed Saturday lunch featuring live acoustic music by Randy. It’s the ultimate time to enjoy our Poke Tuna Nachos or a Hot Honey Fried Chicken Sandwich in the heart of downtown. Grab a seat\, order a refreshing draft beer or a seasonal cocktail\, and let the easy-going melodies set the tone for your afternoon.
URL:https://districtbk.com/event/saturday-acoustic-lunch-with-randy/
LOCATION:District Bar & Kitchen\, 110 S. Broadway St.\, Ocala\, Florida\, 34471
CATEGORIES:Live Music
ATTACH;FMTTYPE=image/jpeg:https://districtbk.com/wp-content/uploads/2025/10/Randy-B-Live-Music-e1759414591901.jpg
END:VEVENT
BEGIN:VEVENT
DTSTART;TZID=America/New_York:20260208T120000
DTEND;TZID=America/New_York:20260208T150000
DTSTAMP:20260422T072352
CREATED:20260205T141320Z
LAST-MODIFIED:20260205T141321Z
UID:2578-1770552000-1770562800@districtbk.com
SUMMARY:Sunday Soulful Sips with Houston Keen
DESCRIPTION:Ease into your Sunday with the gritty\, soulful acoustic sounds of Houston Keen. Whether you’re craving a hearty District Burger or our Chorizo Shrimp & Grits\, our kitchen is firing up from-scratch favorites all afternoon. Pair your meal with a Bloody Mary or a signature mimosa for the perfect end-of-week wind-down.
URL:https://districtbk.com/event/sunday-soulful-sips-with-houston-keen/
LOCATION:District Bar & Kitchen\, 110 S. Broadway St.\, Ocala\, Florida\, 34471
CATEGORIES:Live Music
ATTACH;FMTTYPE=image/webp:https://districtbk.com/wp-content/uploads/2026/01/Houston-Keen.webp
END:VEVENT
BEGIN:VEVENT
DTSTART;TZID=America/New_York:20260212T180000
DTEND;TZID=America/New_York:20260212T210000
DTSTAMP:20260422T072352
CREATED:20260212T180102Z
LAST-MODIFIED:20260212T180103Z
UID:2606-1770919200-1770930000@districtbk.com
SUMMARY:Thursday Night Mix with Mark
DESCRIPTION:Kick off the weekend early at the best restaurant in Ocala FL for a high-energy Happy Hour. Mark from Mix House takes the stage at 6:00 PM\, bringing the perfect vibe for our Gold-medal drink specials. Grab a seat on the terrace\, order a round of Silver-medal wings\, and enjoy the premier sunset view in downtown Ocala.
URL:https://districtbk.com/event/thursday-night-mix-with-mark/
LOCATION:District Bar & Kitchen\, 110 S. Broadway St.\, Ocala\, Florida\, 34471
CATEGORIES:Live Music
ATTACH;FMTTYPE=image/jpeg:https://districtbk.com/wp-content/uploads/2025/09/254-DJI_0055-scaled.jpg
END:VEVENT
BEGIN:VEVENT
DTSTART;TZID=America/New_York:20260213T180000
DTEND;TZID=America/New_York:20260213T210000
DTSTAMP:20260422T072352
CREATED:20260212T181540Z
LAST-MODIFIED:20260212T181540Z
UID:2610-1771005600-1771016400@districtbk.com
SUMMARY:Friday Night Cocktails with E Cliff & Lexi
DESCRIPTION:Kick off the weekend with the best drinks in the 352. E Cliff & Lexi take the stage at 6:00 PM\, providing the perfect soundtrack for exploring our award-winning craft cocktail list. Experience the rooftop service and drink standards that made us the best restaurant in Ocala FL.
URL:https://districtbk.com/event/friday-night-cocktails-with-e-cliff-lexi/
LOCATION:District Bar & Kitchen\, 110 S. Broadway St.\, Ocala\, Florida\, 34471
CATEGORIES:Live Music
ATTACH;FMTTYPE=image/jpeg:https://districtbk.com/wp-content/uploads/2026/02/ecliff-and-lexi.jpg
END:VEVENT
BEGIN:VEVENT
DTSTART;TZID=America/New_York:20260214T120000
DTEND;TZID=America/New_York:20260214T150000
DTSTAMP:20260422T072352
CREATED:20260212T180418Z
LAST-MODIFIED:20260212T180418Z
UID:2608-1771070400-1771081200@districtbk.com
SUMMARY:Valentine’s Lunch with Miranda Madison
DESCRIPTION:Spend Valentine’s midday with Gold-medal Mimosas and the smooth sounds of Miranda Madison. Whether you’re toasted with a signature brunch cocktail or a crisp craft beer\, we offer the best restaurant in Ocala FL experience for a Saturday on the terrace.
URL:https://districtbk.com/event/valentines-lunch-with-miranda-madison/
LOCATION:Florida
CATEGORIES:Live Music
ATTACH;FMTTYPE=image/webp:https://districtbk.com/wp-content/uploads/2025/09/enhanced_photo-e1756897950799.webp
END:VEVENT
BEGIN:VEVENT
DTSTART;TZID=America/New_York:20260214T180000
DTEND;TZID=America/New_York:20260214T210000
DTSTAMP:20260422T072352
CREATED:20260212T181803Z
LAST-MODIFIED:20260212T181804Z
UID:2613-1771092000-1771102800@districtbk.com
SUMMARY:Valentine’s Nightcaps with Conrad Marcum Band
DESCRIPTION:Valentine’s Night belongs on the terrace. Catch Conrad Marcum Band live at 6:00 PM while you explore our Gold-medal cocktail list and premier spirits. As the 2025 Restaurant of the Year\, we provide the ultimate atmosphere and the best restaurant in Ocala FL experience for evening drinks.
URL:https://districtbk.com/event/valentines-nightcaps-with-conrad-marcum-band/
LOCATION:District Bar & Kitchen\, 110 S. Broadway St.\, Ocala\, Florida\, 34471
CATEGORIES:Live Music
ATTACH;FMTTYPE=image/jpeg:https://districtbk.com/wp-content/uploads/2026/01/conrad-marcum-band.jpg
END:VEVENT
BEGIN:VEVENT
DTSTART;TZID=America/New_York:20260215T120000
DTEND;TZID=America/New_York:20260215T150000
DTSTAMP:20260422T072352
CREATED:20260212T181910Z
LAST-MODIFIED:20260212T181911Z
UID:2615-1771156800-1771167600@districtbk.com
SUMMARY:Mimosas & Brunch with Lupe
DESCRIPTION:Sunday Brunch is all about the drinks. Join us at 12:00 PM for Lupe live on the terrace\, paired with our Gold-medal Mimosas and Bloody Marys. Discover the award-winning drink standards that define the best restaurant in Ocala FL for a weekend wind-down.
URL:https://districtbk.com/event/mimosas-brunch-with-lupe/
LOCATION:District Bar & Kitchen\, 110 S. Broadway St.\, Ocala\, Florida\, 34471
CATEGORIES:Live Music
ATTACH;FMTTYPE=image/jpeg:https://districtbk.com/wp-content/uploads/2025/10/Lupe-F.jpg
END:VEVENT
BEGIN:VEVENT
DTSTART;TZID=America/New_York:20260219T180000
DTEND;TZID=America/New_York:20260219T210000
DTSTAMP:20260422T072352
CREATED:20260212T182220Z
LAST-MODIFIED:20260212T182220Z
UID:2617-1771524000-1771534800@districtbk.com
SUMMARY:Sunset Spirits & Jeff Jaret
DESCRIPTION:Catch Jeff Jaret live at 6:00 PM for the ultimate Thursday Happy Hour. Enjoy our award-winning drink specials and hand-crafted cocktails while you take in the sunset from the rooftop. It’s the perfect mid-week reset at the best restaurant in Ocala FL.
URL:https://districtbk.com/event/sunset-spirits-jeff-jaret/
LOCATION:District Bar & Kitchen\, 110 S. Broadway St.\, Ocala\, Florida\, 34471
CATEGORIES:Live Music
ATTACH;FMTTYPE=image/webp:https://districtbk.com/wp-content/uploads/2026/02/Jeff-Jaret-scaled.webp
END:VEVENT
BEGIN:VEVENT
DTSTART;TZID=America/New_York:20260221T120000
DTEND;TZID=America/New_York:20260221T150000
DTSTAMP:20260422T072352
CREATED:20260212T182345Z
LAST-MODIFIED:20260212T182346Z
UID:2620-1771675200-1771686000@districtbk.com
SUMMARY:Saturday Brunch\, Drinks & Charity Cox
DESCRIPTION:Join us for midday drinks and live music from Charity Cox at 12:00 PM. From our Gold-medal Mimosas to local craft drafts\, come experience the hospitality and quality that make us the best restaurant in Ocala FL for a Saturday afternoon session.
URL:https://districtbk.com/event/saturday-brunch-drinks-charity-cox/
LOCATION:District Bar & Kitchen\, 110 S. Broadway St.\, Ocala\, Florida\, 34471
CATEGORIES:Live Music
ATTACH;FMTTYPE=image/webp:https://districtbk.com/wp-content/uploads/2026/01/charity-cox-music.webp
END:VEVENT
BEGIN:VEVENT
DTSTART;TZID=America/New_York:20260221T180000
DTEND;TZID=America/New_York:20260221T210000
DTSTAMP:20260422T072352
CREATED:20260212T182549Z
LAST-MODIFIED:20260212T182714Z
UID:2622-1771696800-1771707600@districtbk.com
SUMMARY:Saturday Night Pours with E Cliff
DESCRIPTION:Saturday night energy is back with E Cliff performing solo at 6:00 PM. Grab a signature cocktail and a spot on the grand terrace for the best drinks and views in the 352. See why the community voted us the best restaurant in Ocala FL for our award-winning bar and atmosphere.
URL:https://districtbk.com/event/saturday-night-pours-with-e-cliff/
LOCATION:District Bar & Kitchen\, 110 S. Broadway St.\, Ocala\, Florida\, 34471
CATEGORIES:Live Music
ATTACH;FMTTYPE=image/jpeg:https://districtbk.com/wp-content/uploads/2025/09/Ecliff-Musician-Live-e1757538966836.jpg
END:VEVENT
BEGIN:VEVENT
DTSTART;TZID=America/New_York:20260227T180000
DTEND;TZID=America/New_York:20260227T210000
DTSTAMP:20260422T072352
CREATED:20260227T174307Z
LAST-MODIFIED:20260227T174308Z
UID:2630-1772215200-1772226000@districtbk.com
SUMMARY:Friday Night Live: Houston Keen
DESCRIPTION:Start your weekend on a high note with Houston Keen! We’re serving up the perfect Friday vibe with live music starting at 6 PM. Grab a stool at the bar\, explore our signature cocktail list\, and toast to the weekend at District.
URL:https://districtbk.com/event/friday-night-live-houston-keen/
LOCATION:District Bar & Kitchen\, 110 S. Broadway St.\, Ocala\, Florida\, 34471
CATEGORIES:Live Music
ATTACH;FMTTYPE=image/webp:https://districtbk.com/wp-content/uploads/2026/01/Houston-Keen.webp
END:VEVENT
BEGIN:VEVENT
DTSTART;TZID=America/New_York:20260228T113000
DTEND;TZID=America/New_York:20260228T150000
DTSTAMP:20260422T072352
CREATED:20260227T174407Z
LAST-MODIFIED:20260227T174408Z
UID:2632-1772278200-1772290800@districtbk.com
SUMMARY:Saturday Brunch & Beats with Lupe
DESCRIPTION:Elevate your Saturday morning! Join us for brunch (11 AM–3 PM) featuring the sounds of LUPE at 11:30 AM. Pair our famous brunch bites with a refreshing Mimosa or a spicy Bloody Mary for the ultimate weekend start.
URL:https://districtbk.com/event/saturday-brunch-beats-with-lupe/
LOCATION:District Bar & Kitchen\, 110 S. Broadway St.\, Ocala\, Florida\, 34471
CATEGORIES:Live Music
ATTACH;FMTTYPE=image/jpeg:https://districtbk.com/wp-content/uploads/2025/10/Lupe-F.jpg
END:VEVENT
END:VCALENDAR