BEGIN:VCALENDAR
VERSION:2.0
PRODID:-//District Bar &amp; Kitchen - ECPv6.15.12.2//NONSGML v1.0//EN
CALSCALE:GREGORIAN
METHOD:PUBLISH
X-WR-CALNAME:District Bar &amp; Kitchen
X-ORIGINAL-URL:https://districtbk.com
X-WR-CALDESC:Events for District Bar &amp; Kitchen
REFRESH-INTERVAL;VALUE=DURATION:PT1H
X-Robots-Tag:noindex
X-PUBLISHED-TTL:PT1H
BEGIN:VTIMEZONE
TZID:America/New_York
BEGIN:DAYLIGHT
TZOFFSETFROM:-0500
TZOFFSETTO:-0400
TZNAME:EDT
DTSTART:20240310T070000
END:DAYLIGHT
BEGIN:STANDARD
TZOFFSETFROM:-0400
TZOFFSETTO:-0500
TZNAME:EST
DTSTART:20241103T060000
END:STANDARD
BEGIN:DAYLIGHT
TZOFFSETFROM:-0500
TZOFFSETTO:-0400
TZNAME:EDT
DTSTART:20250309T070000
END:DAYLIGHT
BEGIN:STANDARD
TZOFFSETFROM:-0400
TZOFFSETTO:-0500
TZNAME:EST
DTSTART:20251102T060000
END:STANDARD
BEGIN:DAYLIGHT
TZOFFSETFROM:-0500
TZOFFSETTO:-0400
TZNAME:EDT
DTSTART:20260308T070000
END:DAYLIGHT
BEGIN:STANDARD
TZOFFSETFROM:-0400
TZOFFSETTO:-0500
TZNAME:EST
DTSTART:20261101T060000
END:STANDARD
END:VTIMEZONE
BEGIN:VEVENT
DTSTART;TZID=America/New_York:20251122T120000
DTEND;TZID=America/New_York:20251122T150000
DTSTAMP:20260422T190018
CREATED:20251110T181443Z
LAST-MODIFIED:20251110T181443Z
UID:2155-1763812800-1763823600@districtbk.com
SUMMARY:Claire Vandiver
DESCRIPTION:Brighten your weekend afternoon! Join us on Saturday from 12:00 PM to 3:00 PM for the captivating voice of Claire V. \nBringing a touch of Nashville soul and acoustic charm\, Claire V. performs a beautiful set of covers and her own original songs. It’s the perfect\, mellow soundtrack for enjoying our delicious lunch menu and drinks. Start your Saturday with great music!
URL:https://districtbk.com/event/claire-vandiver/
LOCATION:District Bar & Kitchen\, 110 S. Broadway St.\, Ocala\, Florida\, 34471
CATEGORIES:Live Music
ATTACH;FMTTYPE=image/webp:https://districtbk.com/wp-content/uploads/2025/09/Clair-Van-Live-Music.webp
END:VEVENT
BEGIN:VEVENT
DTSTART;TZID=America/New_York:20251121T180000
DTEND;TZID=America/New_York:20251121T210000
DTSTAMP:20260422T190018
CREATED:20251110T181207Z
LAST-MODIFIED:20251110T181223Z
UID:2152-1763748000-1763758800@districtbk.com
SUMMARY:Dustin Taylor
DESCRIPTION:Join us for dinner and drinks on Friday as we host the versatile Dustin Taylor from 6:00 PM to 9:00 PM! \nDustin’s setlist spans decades and genres\, guaranteeing there’s something for everyone. Whether you’re unwinding after work or kicking off the weekend\, his engaging performance provides the perfect soundtrack.
URL:https://districtbk.com/event/dustin-taylor/
LOCATION:District Bar & Kitchen\, 110 S. Broadway St.\, Ocala\, Florida\, 34471
CATEGORIES:Live Music
ATTACH;FMTTYPE=image/jpeg:https://districtbk.com/wp-content/uploads/2025/09/Dustin-Taylor-e1757539442635.jpg
END:VEVENT
BEGIN:VEVENT
DTSTART;TZID=America/New_York:20251120T180000
DTEND;TZID=America/New_York:20251120T210000
DTSTAMP:20260422T190018
CREATED:20251110T181028Z
LAST-MODIFIED:20251110T181028Z
UID:2149-1763661600-1763672400@districtbk.com
SUMMARY:Peaches & Karim
DESCRIPTION:Shake up your Thursday night! Join us this Thursday from 6:00 PM to 9:00 PM for the dynamic duo\, Peaches & Karim! \nThis unique North Central Florida act specializes in putting a fresh\, full-band spin on classics and hits. Expect everything from smooth Sinatra to Post Malone\, seamlessly blending pop\, soul\, funk\, and rock. Come ready for great music\, witty banter\, and an unforgettable\, interactive show!
URL:https://districtbk.com/event/peaches-karim/
LOCATION:District Bar & Kitchen\, 110 S. Broadway St.\, Ocala\, Florida\, 34471
CATEGORIES:Live Music
ATTACH;FMTTYPE=image/jpeg:https://districtbk.com/wp-content/uploads/2025/11/Peaches-and-karim.jpg
END:VEVENT
BEGIN:VEVENT
DTSTART;TZID=America/New_York:20251116T120000
DTEND;TZID=America/New_York:20251116T150000
DTSTAMP:20260422T190018
CREATED:20251110T180556Z
LAST-MODIFIED:20251110T180556Z
UID:2147-1763294400-1763305200@districtbk.com
SUMMARY:Randy B.
DESCRIPTION:Make your Sunday afternoon perfect! Join us from 12:00 PM to 3:00 PM for a delicious brunch menu and the fantastic sounds of Randy B. \nRandy B will be playing a laid-back mix of acoustic pop\, classic rock\, and light-hearted covers—the ideal soundtrack for your midday meal and mimosa! Relax\, refuel\, and enjoy your Sunday at District Bar & Kitchen.
URL:https://districtbk.com/event/randy-b/
LOCATION:District Bar & Kitchen\, 110 S. Broadway St.\, Ocala\, Florida\, 34471
CATEGORIES:Live Music
ATTACH;FMTTYPE=image/jpeg:https://districtbk.com/wp-content/uploads/2025/10/Randy-B-Live-Music-e1759414591901.jpg
END:VEVENT
BEGIN:VEVENT
DTSTART;TZID=America/New_York:20251115T180000
DTEND;TZID=America/New_York:20251115T210000
DTSTAMP:20260422T190018
CREATED:20251110T180432Z
LAST-MODIFIED:20251110T180432Z
UID:2145-1763229600-1763240400@districtbk.com
SUMMARY:Seth Dukes
DESCRIPTION:Get ready for a great Saturday night! This Saturday from 6:00 PM to 9:00 PM\, we are welcoming the fantastic Seth Dukes to the stage! \nHe’ll be bringing his signature Country sound\, playing everything from new hits to classic boot-stomping favorites. It’s the perfect soundtrack for great food\, cold drinks\, and a fun evening with friends. Come on down and kick off your weekend with us!
URL:https://districtbk.com/event/seth-dukes/
LOCATION:District Bar & Kitchen\, 110 S. Broadway St.\, Ocala\, Florida\, 34471
CATEGORIES:Live Music
ATTACH;FMTTYPE=image/jpeg:https://districtbk.com/wp-content/uploads/2025/10/Seth-Dukes.jpg
END:VEVENT
BEGIN:VEVENT
DTSTART;TZID=America/New_York:20251114T180000
DTEND;TZID=America/New_York:20251114T210000
DTSTAMP:20260422T190018
CREATED:20251110T180249Z
LAST-MODIFIED:20251110T180249Z
UID:2143-1763143200-1763154000@districtbk.com
SUMMARY:ECliff Farrar
DESCRIPTION:Start your Friday night right at District Bar & Kitchen! Join us from 6:00 PM to 9:00 PM for the incredibly smooth sounds of ECliff Farrar. \nKnown throughout Ocala for his captivating blend of acoustic R&B\, soul\, and pop covers\, ECliff creates the perfect atmosphere for dinner\, drinks\, and unwinding after a long week. Come listen to a true local favorite!
URL:https://districtbk.com/event/ecliff-farrar/
LOCATION:District Bar & Kitchen\, 110 S. Broadway St.\, Ocala\, Florida\, 34471
CATEGORIES:Live Music
ATTACH;FMTTYPE=image/jpeg:https://districtbk.com/wp-content/uploads/2025/09/Ecliff-Musician-Live-e1757538966836.jpg
END:VEVENT
BEGIN:VEVENT
DTSTART;TZID=America/New_York:20251113T180000
DTEND;TZID=America/New_York:20251113T210000
DTSTAMP:20260422T190018
CREATED:20251110T180015Z
LAST-MODIFIED:20251110T180015Z
UID:2141-1763056800-1763067600@districtbk.com
SUMMARY:Live Music with Claire V.
DESCRIPTION:Start your evening right! Join us this Thursday from 6:00 PM to 9:00 PM for a special performance by the incredibly talented Claire V. She’ll be setting the perfect mood with a beautiful mix of acoustic hits\, soulful ballads\, and contemporary favorites. \nCome relax\, enjoy a bite to eat\, sip on a cocktail\, and let Claire’s voice wash over you. The best way to unwind after a long day!
URL:https://districtbk.com/event/live-music-with-claire-v/
LOCATION:District Bar & Kitchen\, 110 S. Broadway St.\, Ocala\, Florida\, 34471
CATEGORIES:Live Music
ATTACH;FMTTYPE=image/webp:https://districtbk.com/wp-content/uploads/2025/09/Clair-Van-Live-Music.webp
END:VEVENT
BEGIN:VEVENT
DTSTART;TZID=America/New_York:20251102T120000
DTEND;TZID=America/New_York:20251102T150000
DTSTAMP:20260422T190018
CREATED:20251021T204339Z
LAST-MODIFIED:20251021T204339Z
UID:2089-1762084800-1762095600@districtbk.com
SUMMARY:Gypsy Sparrow Live
DESCRIPTION:Unwind and dine with us this Sunday. Gypsy Sparrow is on stage\, serving up a relaxed mix of Acoustic Soul\, mellow Rock covers\, and original Blues to ease you into the afternoon.
URL:https://districtbk.com/event/gypsy-sparrow-live-2/
LOCATION:District Bar & Kitchen\, 110 S. Broadway St.\, Ocala\, Florida\, 34471
CATEGORIES:Live Music
ATTACH;FMTTYPE=image/webp:https://districtbk.com/wp-content/uploads/2025/09/Gypsy-sparrow.webp
END:VEVENT
BEGIN:VEVENT
DTSTART;TZID=America/New_York:20251101T180000
DTEND;TZID=America/New_York:20251101T210000
DTSTAMP:20260422T190018
CREATED:20251021T204105Z
LAST-MODIFIED:20251021T204105Z
UID:2087-1762020000-1762030800@districtbk.com
SUMMARY:Gypsy Sparrow Live
DESCRIPTION:Your ultimate Saturday night soundtrack is here! Gypsy Sparrow brings their high-energy show and “wide wingspan” of covers to the house tonight. You’ll hear phenomenal takes on everything from Classic Rock anthems to modern Alternative hits\, alongside their own powerful\, soulful rock originals.
URL:https://districtbk.com/event/gypsy-sparrow-live/
LOCATION:District Bar & Kitchen\, 110 S. Broadway St.\, Ocala\, Florida\, 34471
CATEGORIES:Live Music
ATTACH;FMTTYPE=image/webp:https://districtbk.com/wp-content/uploads/2025/09/Gypsy-sparrow.webp
END:VEVENT
BEGIN:VEVENT
DTSTART;TZID=America/New_York:20251101T120000
DTEND;TZID=America/New_York:20251101T150000
DTSTAMP:20260422T190018
CREATED:20251021T203859Z
LAST-MODIFIED:20251021T203859Z
UID:2085-1761998400-1762009200@districtbk.com
SUMMARY:AJ in Evolution LIVE
DESCRIPTION:Your Saturday just got better! AJ In Evolution is here to soundtrack your afternoon with a perfect blend of Acoustic Rock\, upbeat Blues\, and Alternative covers. Grab a cold drink\, enjoy the day\, and let the good vibes roll with one of the area’s most dynamic acoustic acts.
URL:https://districtbk.com/event/aj-in-evolution-live-3/
LOCATION:District Bar & Kitchen\, 110 S. Broadway St.\, Ocala\, Florida\, 34471
CATEGORIES:Live Music
ATTACH;FMTTYPE=image/jpeg:https://districtbk.com/wp-content/uploads/2025/09/aj-in-evolution.jpg
END:VEVENT
BEGIN:VEVENT
DTSTART;TZID=America/New_York:20251031T180000
DTEND;TZID=America/New_York:20251031T210000
DTSTAMP:20260422T190018
CREATED:20251021T203525Z
LAST-MODIFIED:20251021T203525Z
UID:2083-1761933600-1761944400@districtbk.com
SUMMARY:Dustin Taylor LIVE
DESCRIPTION:Kick off your weekend with a shot of adrenaline and soul! Dustin Taylor hits the stage for a high-energy Friday night performance\, showcasing his incredible guitar skills. Expect a diverse setlist that ranges from hard-driving Blues-Rock to funky covers and his own original material.
URL:https://districtbk.com/event/dustin-taylor-live/
LOCATION:District Bar & Kitchen\, 110 S. Broadway St.\, Ocala\, Florida\, 34471
CATEGORIES:Live Music
ATTACH;FMTTYPE=image/jpeg:https://districtbk.com/wp-content/uploads/2025/09/Dustin-Taylor-e1757539442635.jpg
END:VEVENT
BEGIN:VEVENT
DTSTART;TZID=America/New_York:20251026T120000
DTEND;TZID=America/New_York:20251026T150000
DTSTAMP:20260422T190018
CREATED:20251021T203320Z
LAST-MODIFIED:20251021T203320Z
UID:2081-1761480000-1761490800@districtbk.com
SUMMARY:AJ in Evolution Live for Brunch
DESCRIPTION:Start your Sunday with great food and great music. AJ In Evolution brings the “Evolution” down a notch for a relaxing acoustic performance. Enjoy a polished set of Acoustic Rock\, smooth Blues\, and mellow\, original tunes. It’s the perfect soundtrack for bottomless mimosas and brunch with friends.
URL:https://districtbk.com/event/aj-in-evolution-live-for-brunch/
LOCATION:District Bar & Kitchen\, 110 S. Broadway St.\, Ocala\, Florida\, 34471
CATEGORIES:Live Music
ATTACH;FMTTYPE=image/jpeg:https://districtbk.com/wp-content/uploads/2025/09/aj-in-evolution.jpg
END:VEVENT
BEGIN:VEVENT
DTSTART;TZID=America/New_York:20251025T180000
DTEND;TZID=America/New_York:20251025T210000
DTSTAMP:20260422T190018
CREATED:20251021T202945Z
LAST-MODIFIED:20251021T202945Z
UID:2079-1761415200-1761426000@districtbk.com
SUMMARY:AJ In Evolution LIVE
DESCRIPTION:Get ready to experience the next evolution in live music! AJ In Evolution takes the stage\, delivering a powerful blend of Alternative Rock\, Acoustic Blues\, and high-energy covers. Frontman AJ Fritscher’s raw vocals and driving guitar set the pace for a night of dynamic\, committed\, and absolutely unforgettable rock ‘n’ roll.
URL:https://districtbk.com/event/aj-in-evolution-live-2/
LOCATION:District Bar & Kitchen\, 110 S. Broadway St.\, Ocala\, Florida\, 34471
CATEGORIES:Live Music
ATTACH;FMTTYPE=image/jpeg:https://districtbk.com/wp-content/uploads/2025/09/aj-in-evolution.jpg
END:VEVENT
BEGIN:VEVENT
DTSTART;TZID=America/New_York:20251025T120000
DTEND;TZID=America/New_York:20251025T150000
DTSTAMP:20260422T190018
CREATED:20251021T202705Z
LAST-MODIFIED:20251021T202705Z
UID:2077-1761393600-1761404400@districtbk.com
SUMMARY:Randy B Live
DESCRIPTION:Elevate your weekend with the world-class sounds of Randy B! A veteran guitarist\, Randy B brings his signature soulful urban jazz and R&B grooves to the stage. Get ready for a night of infectious rhythms\, lush guitar melodies\, and smooth\, high-energy music that will keep the room moving.
URL:https://districtbk.com/event/randy-b-live/
LOCATION:District Bar & Kitchen\, 110 S. Broadway St.\, Ocala\, Florida\, 34471
CATEGORIES:Live Music
ATTACH;FMTTYPE=image/jpeg:https://districtbk.com/wp-content/uploads/2025/10/Randy-B-Live-Music-e1759414591901.jpg
END:VEVENT
BEGIN:VEVENT
DTSTART;TZID=America/New_York:20251024T180000
DTEND;TZID=America/New_York:20251024T210000
DTSTAMP:20260422T190018
CREATED:20251021T202143Z
LAST-MODIFIED:20251021T202143Z
UID:2075-1761328800-1761339600@districtbk.com
SUMMARY:AJ in Evolution Live
DESCRIPTION:Kick off your weekend with the dynamic sounds of AJ in Evolution! This talented artist/group specializes in a compelling mix of Singer-Songwriter\, Alternative\, and Acoustic Rock. Expect a rich blend of original songs and unique covers delivered with a powerful\, intimate vibe. Come listen to the music\, celebrate the evolution of sound\, and enjoy your Friday night!
URL:https://districtbk.com/event/aj-in-evolution-live/
LOCATION:District Bar & Kitchen\, 110 S. Broadway St.\, Ocala\, Florida\, 34471
CATEGORIES:Live Music
ATTACH;FMTTYPE=image/jpeg:https://districtbk.com/wp-content/uploads/2025/09/aj-in-evolution.jpg
END:VEVENT
BEGIN:VEVENT
DTSTART;TZID=America/New_York:20251023T180000
DTEND;TZID=America/New_York:20251023T210000
DTSTAMP:20260422T190018
CREATED:20251021T201840Z
LAST-MODIFIED:20251021T201840Z
UID:2073-1761242400-1761253200@districtbk.com
SUMMARY:Mix House Live
DESCRIPTION:Get ready for a dynamic evening! Mix House is here to deliver a diverse set of fresh\, infectious grooves and familiar tunes. Whether you’re here to unwind or get moving\, Mix House creates the perfect lively atmosphere.
URL:https://districtbk.com/event/mix-house-live/
LOCATION:District Bar & Kitchen\, 110 S. Broadway St.\, Ocala\, Florida\, 34471
CATEGORIES:Live Music
ATTACH;FMTTYPE=image/jpeg:https://districtbk.com/wp-content/uploads/2025/09/254-DJI_0055-scaled.jpg
END:VEVENT
BEGIN:VEVENT
DTSTART;TZID=America/New_York:20251019T120000
DTEND;TZID=America/New_York:20251019T150000
DTSTAMP:20260422T190018
CREATED:20251017T143427Z
LAST-MODIFIED:20251017T143427Z
UID:1978-1760875200-1760886000@districtbk.com
SUMMARY:Live Music with Lupe F
DESCRIPTION:Our kitchen is open and the mimosas are flowing! Enjoy our delicious brunch menu paired with great live music from Lupe F. His light\, engaging set of familiar hits and easy-listening melodies is the perfect backdrop for your Sunday gathering.
URL:https://districtbk.com/event/live-music-with-lupe-f/
LOCATION:District Bar & Kitchen\, 110 S. Broadway St.\, Ocala\, Florida\, 34471
CATEGORIES:Live Music
ATTACH;FMTTYPE=image/jpeg:https://districtbk.com/wp-content/uploads/2025/10/Lupe-F.jpg
END:VEVENT
BEGIN:VEVENT
DTSTART;TZID=America/New_York:20251018T180000
DTEND;TZID=America/New_York:20251018T210000
DTSTAMP:20260422T190018
CREATED:20251017T142653Z
LAST-MODIFIED:20251017T142653Z
UID:1976-1760810400-1760821200@districtbk.com
SUMMARY:Seth Dukes Live @ DBK
DESCRIPTION:Kick off your weekend with the smooth sounds and roots-rock style of Seth Dukes. He’ll be performing a mix of soulful originals and your favorite covers\, creating the perfect high-energy\, yet laid-back\, vibe for a Saturday night at District Bar and Kitchen.
URL:https://districtbk.com/event/seth-dukes-live-dbk/
LOCATION:Florida
CATEGORIES:Live Music
ATTACH;FMTTYPE=image/jpeg:https://districtbk.com/wp-content/uploads/2025/10/Seth-Dukes.jpg
END:VEVENT
BEGIN:VEVENT
DTSTART;TZID=America/New_York:20251018T120000
DTEND;TZID=America/New_York:20251018T150000
DTSTAMP:20260422T190018
CREATED:20251017T142524Z
LAST-MODIFIED:20251017T142524Z
UID:1974-1760788800-1760799600@districtbk.com
SUMMARY:Live Music with Charlie V!
DESCRIPTION:Join us for great food\, cold drinks\, and a relaxed night of live music at District Bar and Kitchen. Our featured artist\, Charlie V\, will be playing a mix of familiar hits and smooth\, acoustic tunes to create the perfect atmosphere for your night out. Come on down and enjoy the good vibes!
URL:https://districtbk.com/event/live-music-with-charlie-v/
LOCATION:District Bar & Kitchen\, 110 S. Broadway St.\, Ocala\, Florida\, 34471
CATEGORIES:Live Music
ATTACH;FMTTYPE=image/jpeg:https://districtbk.com/wp-content/uploads/2025/09/DJI_0781.jpg
END:VEVENT
BEGIN:VEVENT
DTSTART;TZID=America/New_York:20251017T180000
DTEND;TZID=America/New_York:20251017T210000
DTSTAMP:20260422T190018
CREATED:20251017T142128Z
LAST-MODIFIED:20251017T142128Z
UID:1972-1760724000-1760734800@districtbk.com
SUMMARY:Gypsy Sparrow Live @ DBK
DESCRIPTION:Gypsy Sparrow Join us tonight for the distinctive sounds of Gypsy Sparrow! He delivers a mix of original\, soulful rock and a wide array of your favorite cover songs. It’s the perfect soundtrack for great food and cold drinks at District Bar and Kitchen.
URL:https://districtbk.com/event/gypsy-sparrow-live-dbk/
LOCATION:District Bar & Kitchen\, 110 S. Broadway St.\, Ocala\, Florida\, 34471
CATEGORIES:Live Music
ATTACH;FMTTYPE=image/webp:https://districtbk.com/wp-content/uploads/2025/09/Gypsy-sparrow.webp
END:VEVENT
BEGIN:VEVENT
DTSTART;TZID=America/New_York:20251003T180000
DTEND;TZID=America/New_York:20251003T210000
DTSTAMP:20260422T190018
CREATED:20251002T142327Z
LAST-MODIFIED:20251002T142327Z
UID:1718-1759514400-1759525200@districtbk.com
SUMMARY:Miranda Madison Live at District Bar & Kitchen
DESCRIPTION:Drawing inspiration from iconic greats like Ella Fitzgerald and Billie Holiday\, she brings stories of love\, heartbreak\, and resilience to life with her honey-toned voice and sultry stage presence.
URL:https://districtbk.com/event/miranda-madison-live-at-district-bar-kitchen/
LOCATION:District Bar & Kitchen\, 110 S. Broadway St.\, Ocala\, Florida\, 34471
CATEGORIES:Live Music
ATTACH;FMTTYPE=image/webp:https://districtbk.com/wp-content/uploads/2025/09/enhanced_photo-e1756897950799.webp
END:VEVENT
END:VCALENDAR