BEGIN:VCALENDAR
VERSION:2.0
PRODID:-//District Bar &amp; Kitchen - ECPv6.15.12.2//NONSGML v1.0//EN
CALSCALE:GREGORIAN
METHOD:PUBLISH
X-ORIGINAL-URL:https://districtbk.com
X-WR-CALDESC:Events for District Bar &amp; Kitchen
REFRESH-INTERVAL;VALUE=DURATION:PT1H
X-Robots-Tag:noindex
X-PUBLISHED-TTL:PT1H
BEGIN:VTIMEZONE
TZID:America/New_York
BEGIN:DAYLIGHT
TZOFFSETFROM:-0500
TZOFFSETTO:-0400
TZNAME:EDT
DTSTART:20250309T070000
END:DAYLIGHT
BEGIN:STANDARD
TZOFFSETFROM:-0400
TZOFFSETTO:-0500
TZNAME:EST
DTSTART:20251102T060000
END:STANDARD
BEGIN:DAYLIGHT
TZOFFSETFROM:-0500
TZOFFSETTO:-0400
TZNAME:EDT
DTSTART:20260308T070000
END:DAYLIGHT
BEGIN:STANDARD
TZOFFSETFROM:-0400
TZOFFSETTO:-0500
TZNAME:EST
DTSTART:20261101T060000
END:STANDARD
BEGIN:DAYLIGHT
TZOFFSETFROM:-0500
TZOFFSETTO:-0400
TZNAME:EDT
DTSTART:20270314T070000
END:DAYLIGHT
BEGIN:STANDARD
TZOFFSETFROM:-0400
TZOFFSETTO:-0500
TZNAME:EST
DTSTART:20271107T060000
END:STANDARD
END:VTIMEZONE
BEGIN:VEVENT
DTSTART;TZID=America/New_York:20260315T110000
DTEND;TZID=America/New_York:20260315T150000
DTSTAMP:20260422T181727
CREATED:20260227T180736Z
LAST-MODIFIED:20260227T180736Z
UID:2656-1773572400-1773586800@districtbk.com
SUMMARY:The Gypsy Sparrow Sunday Brunch
DESCRIPTION:We’re opening the brunch doors at 11 AM with the soulful sounds of Gypsy Sparrow. It’s the perfect pairing for our delicious brunch menu and a crisp\, cold cocktail to wrap up your week.
URL:https://districtbk.com/event/the-gypsy-sparrow-sunday-brunch/
LOCATION:District Bar & Kitchen\, 110 S. Broadway St.\, Ocala\, Florida\, 34471
CATEGORIES:Live Music
ATTACH;FMTTYPE=image/webp:https://districtbk.com/wp-content/uploads/2025/09/Gypsy-sparrow.webp
END:VEVENT
BEGIN:VEVENT
DTSTART;TZID=America/New_York:20260319T180000
DTEND;TZID=America/New_York:20260319T210000
DTSTAMP:20260422T181727
CREATED:20260227T180915Z
LAST-MODIFIED:20260227T180915Z
UID:2658-1773943200-1773954000@districtbk.com
SUMMARY:Thursday Night Revival: Peaches & Karim
DESCRIPTION:They’re back! Enjoy another soulful evening with Peaches & Karim. Skip the kitchen at home and head straight to our bar for drinks and live tunes.
URL:https://districtbk.com/event/thursday-night-revival-peaches-karim/
LOCATION:District Bar & Kitchen\, 110 S. Broadway St.\, Ocala\, Florida\, 34471
CATEGORIES:Live Music
ATTACH;FMTTYPE=image/jpeg:https://districtbk.com/wp-content/uploads/2025/11/Peaches-and-Karim-2.jpg
END:VEVENT
BEGIN:VEVENT
DTSTART;TZID=America/New_York:20260319T180000
DTEND;TZID=America/New_York:20260319T210000
DTSTAMP:20260422T181727
CREATED:20260319T185554Z
LAST-MODIFIED:20260319T185554Z
UID:2695-1773943200-1773954000@districtbk.com
SUMMARY:Sips & Sounds: Lexi Live at The District
DESCRIPTION:Kick off your Friday night with a glass in hand and a live set by Lexi. Starting at 6:00 PM\, we’re serving up the perfect soundtrack to your weekend alongside Ocala’s best craft cocktail menu. \nWhether you’re looking to explore our curated list of artisanal spirits\, grab a local craft draft\, or just enjoy the energy of the District\, Lexi’s performance is the perfect accompaniment to your first (or third) pour of the night.
URL:https://districtbk.com/event/sips-sounds-lexi-live-at-the-district/
LOCATION:District Bar & Kitchen\, 110 S. Broadway St.\, Ocala\, Florida\, 34471
CATEGORIES:Live Music
ATTACH;FMTTYPE=image/jpeg:https://districtbk.com/wp-content/uploads/2026/01/lexi.jpg
END:VEVENT
BEGIN:VEVENT
DTSTART;TZID=America/New_York:20260321T113000
DTEND;TZID=America/New_York:20260321T150000
DTSTAMP:20260422T181727
CREATED:20260319T185835Z
LAST-MODIFIED:20260319T185918Z
UID:2697-1774092600-1774105200@districtbk.com
SUMMARY:Brunch & Brews: Randy Live
DESCRIPTION:Start your Saturday with a beat and a glass. Join us for live music by Randy while you dive into our weekend brunch menu. Whether you’re pairing your meal with a crisp craft beer or one of our signature morning cocktails\, the District is the place to be. Come for the food\, stay for the drinks and the tunes.
URL:https://districtbk.com/event/brunch-brews-randy-live/
LOCATION:District Bar & Kitchen\, 110 S. Broadway St.\, Ocala\, Florida\, 34471
CATEGORIES:Live Music
ATTACH;FMTTYPE=image/jpeg:https://districtbk.com/wp-content/uploads/2025/10/Randy-B-Live-Music-e1759414591901.jpg
END:VEVENT
BEGIN:VEVENT
DTSTART;TZID=America/New_York:20260321T180000
DTEND;TZID=America/New_York:20260321T210000
DTSTAMP:20260422T181727
CREATED:20260319T190344Z
LAST-MODIFIED:20260319T190344Z
UID:2701-1774116000-1774126800@districtbk.com
SUMMARY:Evening Spirits: ECliff Live at The District
DESCRIPTION:The lights go down and the spirits go up. Spend your Saturday evening with ECliff providing the soundtrack to your night. Our bar is fully stocked with artisanal spirits and local drafts—the perfect companions for a night of live music in our upscale warehouse setting. Grab a round and let the weekend begin.
URL:https://districtbk.com/event/evening-spirits-ecliff-live-at-the-district/
LOCATION:District Bar & Kitchen\, 110 S. Broadway St.\, Ocala\, Florida\, 34471
CATEGORIES:Live Music
ATTACH;FMTTYPE=image/jpeg:https://districtbk.com/wp-content/uploads/2025/09/Ecliff-Musician-Live-e1757538966836.jpg
END:VEVENT
BEGIN:VEVENT
DTSTART;TZID=America/New_York:20260322T113000
DTEND;TZID=America/New_York:20260322T150000
DTSTAMP:20260422T181727
CREATED:20260319T190525Z
LAST-MODIFIED:20260319T190525Z
UID:2703-1774179000-1774191600@districtbk.com
SUMMARY:Sunday Siesta & Soul: Lupe Live
DESCRIPTION:End your weekend on a high note at the District. Join us for a live performance by Lupe while you enjoy the best brunch in Ocala. From our refreshing mimosas and craft cocktails to a cold local draft\, we have the perfect pour to pair with Lupe’s soulful sounds.
URL:https://districtbk.com/event/sunday-siesta-soul-lupe-live/
LOCATION:District Bar & Kitchen\, 110 S. Broadway St.\, Ocala\, Florida\, 34471
CATEGORIES:Live Music
ATTACH;FMTTYPE=image/jpeg:https://districtbk.com/wp-content/uploads/2025/10/Lupe-F.jpg
END:VEVENT
BEGIN:VEVENT
DTSTART;TZID=America/New_York:20260326T180000
DTEND;TZID=America/New_York:20260326T210000
DTSTAMP:20260422T181727
CREATED:20260319T190719Z
LAST-MODIFIED:20260319T190719Z
UID:2705-1774548000-1774558800@districtbk.com
SUMMARY:Thursday Night Revival: Conrad Marcum Band Live
DESCRIPTION:Thursdays at the District just got a whole lot louder. Join us at 6:00 PM for an evening with the Conrad Marcum Band! \nWe’re pouring the best spirits in Ocala to keep the energy high all night long. Whether you’re stopping in for a post-work craft cocktail\, a local draft beer\, or to explore our full spirits menu\, the atmosphere will be unmatched. Grab your friends\, find a spot at the bar\, and let’s kick the weekend off a few days early.
URL:https://districtbk.com/event/thursday-night-revival-conrad-marcum-band-live/
LOCATION:District Bar & Kitchen\, 110 S. Broadway St.\, Ocala\, Florida\, 34471
CATEGORIES:Live Music
ATTACH;FMTTYPE=image/jpeg:https://districtbk.com/wp-content/uploads/2026/01/conrad-marcum-band.jpg
END:VEVENT
BEGIN:VEVENT
DTSTART;TZID=America/New_York:20260327T180000
DTEND;TZID=America/New_York:20260327T210000
DTSTAMP:20260422T181727
CREATED:20260319T191207Z
LAST-MODIFIED:20260319T191207Z
UID:2707-1774634400-1774645200@districtbk.com
SUMMARY:Friday Night Pours: AJ in Evolution Live
DESCRIPTION:Your Friday night plans are officially set. Join us at 6:00 PM for an evening of live music with AJ in Evolution. \nWe’re leaning into the weekend with a full lineup of handcrafted cocktails and cold local drafts. Whether you’re unwinding after a long week or starting your night out in downtown Ocala\, our bartenders are ready to pour your favorites while you enjoy the live set.
URL:https://districtbk.com/event/friday-night-pours-aj-in-evolution-live/
LOCATION:District Bar & Kitchen\, 110 S. Broadway St.\, Ocala\, Florida\, 34471
CATEGORIES:Live Music
ATTACH;FMTTYPE=image/jpeg:https://districtbk.com/wp-content/uploads/2025/09/aj-in-evolution.jpg
END:VEVENT
BEGIN:VEVENT
DTSTART;TZID=America/New_York:20260328T180000
DTEND;TZID=America/New_York:20260328T210000
DTSTAMP:20260422T181727
CREATED:20260319T191557Z
LAST-MODIFIED:20260319T191557Z
UID:2709-1774720800-1774731600@districtbk.com
SUMMARY:Saturday Night Mix: Mixhouse Live at The District
DESCRIPTION:Saturday nights are made for great company and even better drinks. Join us at 6:00 PM for Mixhouse live on stage! \nWe’re keeping the energy high with our full lineup of craft cocktails\, premium spirits\, and local craft brews. Whether you’re settling into a booth or hanging out at the bar\, let Mixhouse provide the soundtrack to your Saturday night in downtown Ocala.
URL:https://districtbk.com/event/saturday-night-mix-mixhouse-live-at-the-district/
LOCATION:District Bar & Kitchen\, 110 S. Broadway St.\, Ocala\, Florida\, 34471
CATEGORIES:Live Music
ATTACH;FMTTYPE=image/jpeg:https://districtbk.com/wp-content/uploads/2025/09/254-DJI_0055-scaled.jpg
END:VEVENT
BEGIN:VEVENT
DTSTART;TZID=America/New_York:20260330T170000
DTEND;TZID=America/New_York:20260330T200000
DTSTAMP:20260422T181727
CREATED:20260327T144913Z
LAST-MODIFIED:20260327T144914Z
UID:2718-1774890000-1774900800@districtbk.com
SUMMARY:Cocktails For a Cause | Celebrity Bartender Night
DESCRIPTION:District Bar & Kitchen is more than a restaurant; we are a family. Today\, one of our own needs our collective strength. \nWe invite you to a special edition of Cocktails For a Cause: Celebrity Bartender Night. This evening is dedicated to raising $25\,000 for our Assistant General Manager\, Camille\, as she navigates serious medical challenges. To ensure every dollar goes directly to her care\, we have partnered with Ocala Outreach to create a 100% tax-deductible fund for her out-of-pocket medical expenses. \nThe Celebrity Lineup\nWatch your favorite local personalities step behind the bar to shake\, stir\, and compete for tips—all in support of Camille’s recovery. \n\n\n5:00 PM – 6:00 PM: Adam Woods & Owen McCarthy \n\n\n6:00 PM – 7:00 PM: Angie Lewis \n\n\n7:00 PM – 8:00 PM: R.J. Jenkins & Sam Betty \n\n\nFeature Support: Matt Larmoyeux & Bobby Loveland backing up the bars all night! \n\n\nLet’s finish March strong and show Camille the power of the DBK family.
URL:https://districtbk.com/event/cocktails-for-a-cause-celebrity-bartender-night/
LOCATION:District Bar & Kitchen\, 110 S. Broadway St.\, Ocala\, Florida\, 34471
CATEGORIES:Fundraiser
ATTACH;FMTTYPE=image/jpeg:https://districtbk.com/wp-content/uploads/2026/03/Cocktails-for-a-Cause.jpg
END:VEVENT
BEGIN:VEVENT
DTSTART;TZID=America/New_York:20260402T180000
DTEND;TZID=America/New_York:20260402T210000
DTSTAMP:20260422T181727
CREATED:20260319T191743Z
LAST-MODIFIED:20260319T191743Z
UID:2711-1775152800-1775163600@districtbk.com
SUMMARY:Thursday Night Revival: Jeff Jaret Live
DESCRIPTION:Break up the work week with a premium pour and a live set. Join us at 6:00 PM for Jeff Jaret live at the District! \nOur bartenders are ready to serve up your favorite craft cocktails and local drafts while you enjoy the music in our unique upscale warehouse setting. Whether you’re stopping by for a quick drink or settling in for the evening\, there’s no better way to spend a Thursday in downtown Ocala.
URL:https://districtbk.com/event/thursday-night-revival-jeff-jaret-live/
LOCATION:District Bar & Kitchen\, 110 S. Broadway St.\, Ocala\, Florida\, 34471
CATEGORIES:Live Music
ATTACH;FMTTYPE=image/webp:https://districtbk.com/wp-content/uploads/2026/02/Jeff-Jaret-scaled.webp
END:VEVENT
BEGIN:VEVENT
DTSTART;TZID=America/New_York:20260403T180000
DTEND;TZID=America/New_York:20260403T210000
DTSTAMP:20260422T181727
CREATED:20260319T191933Z
LAST-MODIFIED:20260319T191933Z
UID:2713-1775239200-1775250000@districtbk.com
SUMMARY:Friday Night Pours: Miranda Madison Live
DESCRIPTION:Start your weekend with a touch of class and a perfectly shaken cocktail. Join us at 6:00 PM for a live performance by the talented Miranda Madison. \nSip on our signature craft cocktails or choose from our curated selection of local drafts while Miranda sets the mood in our upscale warehouse atmosphere. Whether you’re here for a date night or catching up with friends\, it’s the premier spot in downtown Ocala for live music and premium spirits.
URL:https://districtbk.com/event/friday-night-pours-miranda-madison-live/
LOCATION:District Bar & Kitchen\, 110 S. Broadway St.\, Ocala\, Florida\, 34471
CATEGORIES:Live Music
ATTACH;FMTTYPE=image/webp:https://districtbk.com/wp-content/uploads/2025/09/enhanced_photo-e1756897950799.webp
END:VEVENT
BEGIN:VEVENT
DTSTART;TZID=America/New_York:20260404T180000
DTEND;TZID=America/New_York:20260404T210000
DTSTAMP:20260422T181727
CREATED:20260319T192109Z
LAST-MODIFIED:20260319T192109Z
UID:2715-1775325600-1775336400@districtbk.com
SUMMARY:Saturday Night Mix: Mixhouse Live at The District
DESCRIPTION:The weekend is in full swing and Mixhouse is back to set the vibe! Join us at 6:00 PM for another night of live music and premium pours. \nOur bar is stocked and ready—pair the music with a signature craft cocktail\, a glass from our curated wine list\, or a cold local draft. In the heart of downtown Ocala\, there’s no better place to enjoy a Saturday night out.
URL:https://districtbk.com/event/saturday-night-mix-mixhouse-live-at-the-district-2/
LOCATION:District Bar & Kitchen\, 110 S. Broadway St.\, Ocala\, Florida\, 34471
CATEGORIES:Live Music
ATTACH;FMTTYPE=image/jpeg:https://districtbk.com/wp-content/uploads/2025/09/254-DJI_0055-scaled.jpg
END:VEVENT
BEGIN:VEVENT
DTSTART;TZID=America/New_York:20260409T180000
DTEND;TZID=America/New_York:20260409T210000
DTSTAMP:20260422T181727
CREATED:20260406T161000Z
LAST-MODIFIED:20260406T161000Z
UID:2727-1775757600-1775768400@districtbk.com
SUMMARY:Cocktails & Claire: Live at the District
DESCRIPTION:Get your Thursday night started with the soulful sounds of Claire\, performing live from 6 PM to 9 PM. It is the perfect excuse to grab a seat\, relax\, and explore our drink menu for a new favorite craft cocktail or a local draft. Join us for great music and the best mid-week vibe in downtown Ocala!
URL:https://districtbk.com/event/cocktails-claire-live-at-the-district/
LOCATION:District Bar & Kitchen\, 110 S. Broadway St.\, Ocala\, Florida\, 34471
CATEGORIES:Live Music
ATTACH;FMTTYPE=image/webp:https://districtbk.com/wp-content/uploads/2025/09/Clair-Van-Live-Music.webp
END:VEVENT
BEGIN:VEVENT
DTSTART;TZID=America/New_York:20260410T180000
DTEND;TZID=America/New_York:20260410T210000
DTSTAMP:20260422T181727
CREATED:20260406T161123Z
LAST-MODIFIED:20260406T161123Z
UID:2729-1775844000-1775854800@districtbk.com
SUMMARY:Friday Night Live: Lexi at the District
DESCRIPTION:Kick off your weekend with Lexi performing live from 6 PM to 9 PM. Grab your friends and come enjoy the best Friday night vibe in downtown Ocala. While you’re here\, explore our drink menu for a cold draft or a signature craft cocktail. It’s the perfect way to unwind and get the weekend started!
URL:https://districtbk.com/event/friday-night-live-lexi-at-the-district/
LOCATION:District Bar & Kitchen\, 110 S. Broadway St.\, Ocala\, Florida\, 34471
CATEGORIES:Live Music
ATTACH;FMTTYPE=image/jpeg:https://districtbk.com/wp-content/uploads/2026/01/lexi.jpg
END:VEVENT
BEGIN:VEVENT
DTSTART;TZID=America/New_York:20260411T120000
DTEND;TZID=America/New_York:20260411T150000
DTSTAMP:20260422T181727
CREATED:20260406T161315Z
LAST-MODIFIED:20260406T161341Z
UID:2731-1775908800-1775919600@districtbk.com
SUMMARY:Saturday Brunch with Miranda Madison
DESCRIPTION:Make your Saturday morning a little more musical with the vintage sounds of Miranda Madison from 12 PM to 3 PM. It is the perfect time to dive into our brunch menu for some mid-day favorites. Grab a mimosa\, enjoy the music\, and soak in the best Saturday vibe in Ocala!
URL:https://districtbk.com/event/saturday-brunch-with-miranda-madison/
LOCATION:District Bar & Kitchen\, 110 S. Broadway St.\, Ocala\, Florida\, 34471
CATEGORIES:Live Music
ATTACH;FMTTYPE=image/webp:https://districtbk.com/wp-content/uploads/2025/09/enhanced_photo-e1756897950799.webp
END:VEVENT
BEGIN:VEVENT
DTSTART;TZID=America/New_York:20260411T180000
DTEND;TZID=America/New_York:20260411T210000
DTSTAMP:20260422T181727
CREATED:20260406T161551Z
LAST-MODIFIED:20260406T161551Z
UID:2733-1775930400-1775941200@districtbk.com
SUMMARY:Saturday Night Spotlight: Ecliff Live
DESCRIPTION:Keep the Saturday energy going with Ecliff taking the stage from 6 PM to 9 PM. Whether you’re starting your night or settling in for the evening\, our drink menu has the perfect craft cocktail or local draft waiting for you. Come experience great live music and the best atmosphere in the District!
URL:https://districtbk.com/event/saturday-night-spotlight-ecliff-live/
LOCATION:District Bar & Kitchen\, 110 S. Broadway St.\, Ocala\, Florida\, 34471
CATEGORIES:Live Music
ATTACH;FMTTYPE=image/jpeg:https://districtbk.com/wp-content/uploads/2025/09/Ecliff-Musician-Live-e1757538966836.jpg
END:VEVENT
BEGIN:VEVENT
DTSTART;TZID=America/New_York:20260413T110000
DTEND;TZID=America/New_York:20260413T150000
DTSTAMP:20260422T181727
CREATED:20260406T161757Z
LAST-MODIFIED:20260406T161757Z
UID:2735-1776078000-1776092400@districtbk.com
SUMMARY:Mimosas & Gypsy Sparrow
DESCRIPTION:There is no better way to spend a Sunday morning than with live music by Gypsy Sparrow. Join us from 11 AM to 3 PM for brunch in Ocala. Sip on a signature mimosa\, enjoy the soulful vibes\, and let the weekend wind down the right way.
URL:https://districtbk.com/event/mimosas-gypsy-sparrow/
LOCATION:District Bar & Kitchen\, 110 S. Broadway St.\, Ocala\, Florida\, 34471
CATEGORIES:Live Music
ATTACH;FMTTYPE=image/webp:https://districtbk.com/wp-content/uploads/2025/09/Gypsy-sparrow.webp
END:VEVENT
BEGIN:VEVENT
DTSTART;TZID=America/New_York:20260416T180000
DTEND;TZID=America/New_York:20260416T210000
DTSTAMP:20260422T181727
CREATED:20260406T162008Z
LAST-MODIFIED:20260406T162008Z
UID:2737-1776362400-1776373200@districtbk.com
SUMMARY:Sweet Sounds: Peaches & Karim Live
DESCRIPTION:Get your groove on this Thursday with the vibrant sounds of Peaches & Karim from 6 PM to 9 PM. It’s the perfect excuse to skip the kitchen and explore our drink menu for a refreshing craft cocktail. Come for the music\, stay for the best mid-week atmosphere in the District!
URL:https://districtbk.com/event/sweet-sounds-peaches-karim-live/
LOCATION:District Bar & Kitchen\, 110 S. Broadway St.\, Ocala\, Florida\, 34471
CATEGORIES:Live Music
ATTACH;FMTTYPE=image/jpeg:https://districtbk.com/wp-content/uploads/2025/11/Peaches-and-Karim-2.jpg
END:VEVENT
BEGIN:VEVENT
DTSTART;TZID=America/New_York:20260417T180000
DTEND;TZID=America/New_York:20260417T210000
DTSTAMP:20260422T181727
CREATED:20260406T162213Z
LAST-MODIFIED:20260406T162213Z
UID:2739-1776448800-1776459600@districtbk.com
SUMMARY:The Weekend Starts with Conrad Marcum
DESCRIPTION:Kick off your Friday night with a high-energy performance by the Conrad Marcum Band. They’ll be rocking the house from 6 PM to 9 PM\, making us the ultimate destination for Ocala nightlife. Grab a round from our full bar menu and let’s get the weekend started!
URL:https://districtbk.com/event/the-weekend-starts-with-conrad-marcum/
LOCATION:District Bar & Kitchen\, 110 S. Broadway St.\, Ocala\, Florida\, 34471
CATEGORIES:Live Music
ATTACH;FMTTYPE=image/jpeg:https://districtbk.com/wp-content/uploads/2026/01/conrad-marcum-band.jpg
END:VEVENT
BEGIN:VEVENT
DTSTART;TZID=America/New_York:20260418T110000
DTEND;TZID=America/New_York:20260418T140000
DTSTAMP:20260422T181727
CREATED:20260406T162327Z
LAST-MODIFIED:20260406T162327Z
UID:2741-1776510000-1776520800@districtbk.com
SUMMARY:Saturday Brunch & Melodies with Lupe
DESCRIPTION:Start your Saturday on a high note with Lupe performing live during brunch from 11 AM to 2 PM. Whether you’re craving something sweet or savory from our brunch menu\, we have the perfect plate (and drink!) to match the music.
URL:https://districtbk.com/event/saturday-brunch-melodies-with-lupe/
LOCATION:District Bar & Kitchen\, 110 S. Broadway St.\, Ocala\, Florida\, 34471
CATEGORIES:Live Music
ATTACH;FMTTYPE=image/jpeg:https://districtbk.com/wp-content/uploads/2025/10/Lupe-F.jpg
END:VEVENT
BEGIN:VEVENT
DTSTART;TZID=America/New_York:20260419T110000
DTEND;TZID=America/New_York:20260419T140000
DTSTAMP:20260422T181727
CREATED:20260406T162520Z
LAST-MODIFIED:20260406T162540Z
UID:2743-1776596400-1776607200@districtbk.com
SUMMARY:Sunday Soul with Randy
DESCRIPTION:Join us for an easy-going Sunday brunch featuring live music by Randy. It’s the perfect\, laid-back atmosphere to enjoy our brunch classics and a fresh bloody mary. Come relax and soak in the Sunday vibes with us!
URL:https://districtbk.com/event/sunday-soul-with-randy/
LOCATION:District Bar & Kitchen\, 110 S. Broadway St.\, Ocala\, Florida\, 34471
CATEGORIES:Live Music
ATTACH;FMTTYPE=image/jpeg:https://districtbk.com/wp-content/uploads/2025/10/Randy-B-Live-Music-e1759414591901.jpg
END:VEVENT
BEGIN:VEVENT
DTSTART;TZID=America/New_York:20260423T180000
DTEND;TZID=America/New_York:20260423T210000
DTSTAMP:20260422T181727
CREATED:20260406T162651Z
LAST-MODIFIED:20260406T162722Z
UID:2746-1776967200-1776978000@districtbk.com
SUMMARY:Thursday Night Vibes with Layla
DESCRIPTION:Join us for a live set by Layla from 6 PM to 9 PM. It is the perfect mid-week escape to relax and enjoy the atmosphere in the District. While you’re here\, be sure to check out our drink menu for a signature cocktail or a cold local draft.
URL:https://districtbk.com/event/thursday-night-vibes-with-layla/
LOCATION:District Bar & Kitchen\, 110 S. Broadway St.\, Ocala\, Florida\, 34471
CATEGORIES:Live Music
ATTACH;FMTTYPE=image/jpeg:https://districtbk.com/wp-content/uploads/2026/02/Layla.jpg
END:VEVENT
BEGIN:VEVENT
DTSTART;TZID=America/New_York:20260424T180000
DTEND;TZID=America/New_York:20260424T210000
DTSTAMP:20260422T181727
CREATED:20260406T162912Z
LAST-MODIFIED:20260406T162912Z
UID:2749-1777053600-1777064400@districtbk.com
SUMMARY:Friday Night Live: MarkSings at the District
DESCRIPTION:Kick off your weekend with MarkSings performing live from 6 PM to 9 PM. Grab a seat\, order a round from our full bar menu\, and enjoy the best Friday night energy in downtown Ocala!
URL:https://districtbk.com/event/friday-night-live-marksings-at-the-district/
LOCATION:District Bar & Kitchen\, 110 S. Broadway St.\, Ocala\, Florida\, 34471
CATEGORIES:Live Music
ATTACH;FMTTYPE=image/webp:https://districtbk.com/wp-content/uploads/2025/09/Mark-Sings.webp
END:VEVENT
BEGIN:VEVENT
DTSTART;TZID=America/New_York:20260425T110000
DTEND;TZID=America/New_York:20260425T140000
DTSTAMP:20260422T181727
CREATED:20260406T163049Z
LAST-MODIFIED:20260406T163049Z
UID:2751-1777114800-1777125600@districtbk.com
SUMMARY:Saturday Brunch with Randy
DESCRIPTION:Start your Saturday right with live music by Randy during our brunch hours. Whether you’re here for the mimosas or the food\, our brunch menu has exactly what you need to kick off a great weekend.
URL:https://districtbk.com/event/saturday-brunch-with-randy/
LOCATION:District Bar & Kitchen\, 110 S. Broadway St.\, Ocala\, Florida\, 34471
CATEGORIES:Live Music
ATTACH;FMTTYPE=image/jpeg:https://districtbk.com/wp-content/uploads/2025/10/Randy-B-Live-Music-e1759414591901.jpg
END:VEVENT
BEGIN:VEVENT
DTSTART;TZID=America/New_York:20260425T180000
DTEND;TZID=America/New_York:20260425T210000
DTSTAMP:20260422T181727
CREATED:20260406T163234Z
LAST-MODIFIED:20260406T163234Z
UID:2753-1777140000-1777150800@districtbk.com
SUMMARY:Saturday Night Spotlight: AJ in Evolution
DESCRIPTION:The Saturday night party continues with AJ in Evolution live from 6 PM to 9 PM. Come experience great music and explore our drink menu for the perfect craft cocktail to match the vibe.
URL:https://districtbk.com/event/saturday-night-spotlight-aj-in-evolution/
LOCATION:District Bar & Kitchen\, 110 S. Broadway St.\, Ocala\, Florida\, 34471
CATEGORIES:Live Music
ATTACH;FMTTYPE=image/jpeg:https://districtbk.com/wp-content/uploads/2025/09/aj-in-evolution.jpg
END:VEVENT
BEGIN:VEVENT
DTSTART;TZID=America/New_York:20260426T110000
DTEND;TZID=America/New_York:20260426T140000
DTSTAMP:20260422T181727
CREATED:20260406T163409Z
LAST-MODIFIED:20260406T163409Z
UID:2755-1777201200-1777212000@districtbk.com
SUMMARY:Mimosas & The Conrad Marcum Band
DESCRIPTION:We’re turning up the energy for Sunday Brunch with the Conrad Marcum Band! Join us from 11 AM to 2 PM for live tunes\, bloody marys\, and everything on our brunch menu. It’s the ultimate Sunday session in Ocala.
URL:https://districtbk.com/event/mimosas-the-conrad-marcum-band/
LOCATION:District Bar & Kitchen\, 110 S. Broadway St.\, Ocala\, Florida\, 34471
CATEGORIES:Live Music
ATTACH;FMTTYPE=image/jpeg:https://districtbk.com/wp-content/uploads/2026/01/conrad-marcum-band.jpg
END:VEVENT
BEGIN:VEVENT
DTSTART;TZID=America/New_York:20260430T180000
DTEND;TZID=America/New_York:20260430T210000
DTSTAMP:20260422T181727
CREATED:20260406T163612Z
LAST-MODIFIED:20260406T163612Z
UID:2757-1777572000-1777582800@districtbk.com
SUMMARY:Thursday Night Session: Conrad Marcum Band
DESCRIPTION:The Conrad Marcum Band is back to help you close out the month! Join us from 6 PM to 9 PM for live music and a great atmosphere. Don’t forget to browse our drink menu for your favorite local drafts and spirits.
URL:https://districtbk.com/event/thursday-night-session-conrad-marcum-band/
LOCATION:District Bar & Kitchen\, 110 S. Broadway St.\, Ocala\, Florida\, 34471
CATEGORIES:Live Music
ATTACH;FMTTYPE=image/jpeg:https://districtbk.com/wp-content/uploads/2026/01/conrad-marcum-band.jpg
END:VEVENT
BEGIN:VEVENT
DTSTART;TZID=America/New_York:20260501T180000
DTEND;TZID=America/New_York:20260501T210000
DTSTAMP:20260422T181727
CREATED:20260406T163748Z
LAST-MODIFIED:20260406T163748Z
UID:2759-1777658400-1777669200@districtbk.com
SUMMARY:Friday Night Vibes: Miranda Madison
DESCRIPTION:Celebrate the start of May with the vintage sounds of Miranda Madison. Performing live from 6 PM to 9 PM\, she provides the perfect soundtrack to your Friday night. Pair the music with a selection from our drink menu for a perfect night out.
URL:https://districtbk.com/event/friday-night-vibes-miranda-madison/
LOCATION:District Bar & Kitchen\, 110 S. Broadway St.\, Ocala\, Florida\, 34471
CATEGORIES:Live Music
ATTACH;FMTTYPE=image/webp:https://districtbk.com/wp-content/uploads/2025/09/enhanced_photo-e1756897950799.webp
END:VEVENT
BEGIN:VEVENT
DTSTART;TZID=America/New_York:20260502T140000
DTEND;TZID=America/New_York:20260502T180000
DTSTAMP:20260422T181727
CREATED:20260406T164509Z
LAST-MODIFIED:20260406T164739Z
UID:2761-1777730400-1777744800@districtbk.com
SUMMARY:2nd Annual Downtown Ocala Derby Pub Crawl
DESCRIPTION:Sip\, Strut\, and Run for the Roses! Join us for the 2nd Annual Downtown Ocala Derby Pub Crawl supporting the Marion County Literacy Council. Start your “race” at Bank Street Patio Bar to grab your koozie and ticket\, then trot through 9 local stops—including right here at District Bar and Kitchen—for a featured cocktail at every turn. \nGallop to the finish line at The Black Sheep for the final race viewing and your Derby Rose. Derby hats and stylish attire are highly encouraged! 20% of all proceeds benefit local literacy\, so come enjoy a featured drink from our menu for a great cause. \nTickets are only $54.35 \nCLICK HERE TO GET TICKETS
URL:https://districtbk.com/event/2nd-annual-downtown-ocala-derby-pub-crawl/
LOCATION:District Bar & Kitchen\, 110 S. Broadway St.\, Ocala\, Florida\, 34471
CATEGORIES:Fundraiser
ATTACH;FMTTYPE=image/webp:https://districtbk.com/wp-content/uploads/2026/04/kentucky-derby-pub-crawl-2026-content-02-the-black-sheep-on-broadway-1920w.webp
END:VEVENT
END:VCALENDAR