BEGIN:VCALENDAR
VERSION:2.0
PRODID:-//District Bar &amp; Kitchen - ECPv6.15.12.2//NONSGML v1.0//EN
CALSCALE:GREGORIAN
METHOD:PUBLISH
X-WR-CALNAME:District Bar &amp; Kitchen
X-ORIGINAL-URL:https://districtbk.com
X-WR-CALDESC:Events for District Bar &amp; Kitchen
REFRESH-INTERVAL;VALUE=DURATION:PT1H
X-Robots-Tag:noindex
X-PUBLISHED-TTL:PT1H
BEGIN:VTIMEZONE
TZID:America/New_York
BEGIN:DAYLIGHT
TZOFFSETFROM:-0500
TZOFFSETTO:-0400
TZNAME:EDT
DTSTART:20240310T070000
END:DAYLIGHT
BEGIN:STANDARD
TZOFFSETFROM:-0400
TZOFFSETTO:-0500
TZNAME:EST
DTSTART:20241103T060000
END:STANDARD
BEGIN:DAYLIGHT
TZOFFSETFROM:-0500
TZOFFSETTO:-0400
TZNAME:EDT
DTSTART:20250309T070000
END:DAYLIGHT
BEGIN:STANDARD
TZOFFSETFROM:-0400
TZOFFSETTO:-0500
TZNAME:EST
DTSTART:20251102T060000
END:STANDARD
BEGIN:DAYLIGHT
TZOFFSETFROM:-0500
TZOFFSETTO:-0400
TZNAME:EDT
DTSTART:20260308T070000
END:DAYLIGHT
BEGIN:STANDARD
TZOFFSETFROM:-0400
TZOFFSETTO:-0500
TZNAME:EST
DTSTART:20261101T060000
END:STANDARD
END:VTIMEZONE
BEGIN:VEVENT
DTSTART;TZID=America/New_York:20251024T180000
DTEND;TZID=America/New_York:20251024T210000
DTSTAMP:20260422T184054
CREATED:20251021T202143Z
LAST-MODIFIED:20251021T202143Z
UID:2075-1761328800-1761339600@districtbk.com
SUMMARY:AJ in Evolution Live
DESCRIPTION:Kick off your weekend with the dynamic sounds of AJ in Evolution! This talented artist/group specializes in a compelling mix of Singer-Songwriter\, Alternative\, and Acoustic Rock. Expect a rich blend of original songs and unique covers delivered with a powerful\, intimate vibe. Come listen to the music\, celebrate the evolution of sound\, and enjoy your Friday night!
URL:https://districtbk.com/event/aj-in-evolution-live/
LOCATION:District Bar & Kitchen\, 110 S. Broadway St.\, Ocala\, Florida\, 34471
CATEGORIES:Live Music
ATTACH;FMTTYPE=image/jpeg:https://districtbk.com/wp-content/uploads/2025/09/aj-in-evolution.jpg
END:VEVENT
BEGIN:VEVENT
DTSTART;TZID=America/New_York:20251023T180000
DTEND;TZID=America/New_York:20251023T210000
DTSTAMP:20260422T184054
CREATED:20251021T201840Z
LAST-MODIFIED:20251021T201840Z
UID:2073-1761242400-1761253200@districtbk.com
SUMMARY:Mix House Live
DESCRIPTION:Get ready for a dynamic evening! Mix House is here to deliver a diverse set of fresh\, infectious grooves and familiar tunes. Whether you’re here to unwind or get moving\, Mix House creates the perfect lively atmosphere.
URL:https://districtbk.com/event/mix-house-live/
LOCATION:District Bar & Kitchen\, 110 S. Broadway St.\, Ocala\, Florida\, 34471
CATEGORIES:Live Music
ATTACH;FMTTYPE=image/jpeg:https://districtbk.com/wp-content/uploads/2025/09/254-DJI_0055-scaled.jpg
END:VEVENT
BEGIN:VEVENT
DTSTART;TZID=America/New_York:20251019T120000
DTEND;TZID=America/New_York:20251019T150000
DTSTAMP:20260422T184054
CREATED:20251017T143427Z
LAST-MODIFIED:20251017T143427Z
UID:1978-1760875200-1760886000@districtbk.com
SUMMARY:Live Music with Lupe F
DESCRIPTION:Our kitchen is open and the mimosas are flowing! Enjoy our delicious brunch menu paired with great live music from Lupe F. His light\, engaging set of familiar hits and easy-listening melodies is the perfect backdrop for your Sunday gathering.
URL:https://districtbk.com/event/live-music-with-lupe-f/
LOCATION:District Bar & Kitchen\, 110 S. Broadway St.\, Ocala\, Florida\, 34471
CATEGORIES:Live Music
ATTACH;FMTTYPE=image/jpeg:https://districtbk.com/wp-content/uploads/2025/10/Lupe-F.jpg
END:VEVENT
BEGIN:VEVENT
DTSTART;TZID=America/New_York:20251018T180000
DTEND;TZID=America/New_York:20251018T210000
DTSTAMP:20260422T184054
CREATED:20251017T142653Z
LAST-MODIFIED:20251017T142653Z
UID:1976-1760810400-1760821200@districtbk.com
SUMMARY:Seth Dukes Live @ DBK
DESCRIPTION:Kick off your weekend with the smooth sounds and roots-rock style of Seth Dukes. He’ll be performing a mix of soulful originals and your favorite covers\, creating the perfect high-energy\, yet laid-back\, vibe for a Saturday night at District Bar and Kitchen.
URL:https://districtbk.com/event/seth-dukes-live-dbk/
LOCATION:Florida
CATEGORIES:Live Music
ATTACH;FMTTYPE=image/jpeg:https://districtbk.com/wp-content/uploads/2025/10/Seth-Dukes.jpg
END:VEVENT
BEGIN:VEVENT
DTSTART;TZID=America/New_York:20251018T120000
DTEND;TZID=America/New_York:20251018T150000
DTSTAMP:20260422T184054
CREATED:20251017T142524Z
LAST-MODIFIED:20251017T142524Z
UID:1974-1760788800-1760799600@districtbk.com
SUMMARY:Live Music with Charlie V!
DESCRIPTION:Join us for great food\, cold drinks\, and a relaxed night of live music at District Bar and Kitchen. Our featured artist\, Charlie V\, will be playing a mix of familiar hits and smooth\, acoustic tunes to create the perfect atmosphere for your night out. Come on down and enjoy the good vibes!
URL:https://districtbk.com/event/live-music-with-charlie-v/
LOCATION:District Bar & Kitchen\, 110 S. Broadway St.\, Ocala\, Florida\, 34471
CATEGORIES:Live Music
ATTACH;FMTTYPE=image/jpeg:https://districtbk.com/wp-content/uploads/2025/09/DJI_0781.jpg
END:VEVENT
BEGIN:VEVENT
DTSTART;TZID=America/New_York:20251017T180000
DTEND;TZID=America/New_York:20251017T210000
DTSTAMP:20260422T184054
CREATED:20251017T142128Z
LAST-MODIFIED:20251017T142128Z
UID:1972-1760724000-1760734800@districtbk.com
SUMMARY:Gypsy Sparrow Live @ DBK
DESCRIPTION:Gypsy Sparrow Join us tonight for the distinctive sounds of Gypsy Sparrow! He delivers a mix of original\, soulful rock and a wide array of your favorite cover songs. It’s the perfect soundtrack for great food and cold drinks at District Bar and Kitchen.
URL:https://districtbk.com/event/gypsy-sparrow-live-dbk/
LOCATION:District Bar & Kitchen\, 110 S. Broadway St.\, Ocala\, Florida\, 34471
CATEGORIES:Live Music
ATTACH;FMTTYPE=image/webp:https://districtbk.com/wp-content/uploads/2025/09/Gypsy-sparrow.webp
END:VEVENT
BEGIN:VEVENT
DTSTART;TZID=America/New_York:20251003T180000
DTEND;TZID=America/New_York:20251003T210000
DTSTAMP:20260422T184054
CREATED:20251002T142327Z
LAST-MODIFIED:20251002T142327Z
UID:1718-1759514400-1759525200@districtbk.com
SUMMARY:Miranda Madison Live at District Bar & Kitchen
DESCRIPTION:Drawing inspiration from iconic greats like Ella Fitzgerald and Billie Holiday\, she brings stories of love\, heartbreak\, and resilience to life with her honey-toned voice and sultry stage presence.
URL:https://districtbk.com/event/miranda-madison-live-at-district-bar-kitchen/
LOCATION:District Bar & Kitchen\, 110 S. Broadway St.\, Ocala\, Florida\, 34471
CATEGORIES:Live Music
ATTACH;FMTTYPE=image/webp:https://districtbk.com/wp-content/uploads/2025/09/enhanced_photo-e1756897950799.webp
END:VEVENT
END:VCALENDAR