BEGIN:VCALENDAR
VERSION:2.0
PRODID:-//District Bar &amp; Kitchen - ECPv6.15.12.2//NONSGML v1.0//EN
CALSCALE:GREGORIAN
METHOD:PUBLISH
X-ORIGINAL-URL:https://districtbk.com
X-WR-CALDESC:Events for District Bar &amp; Kitchen
REFRESH-INTERVAL;VALUE=DURATION:PT1H
X-Robots-Tag:noindex
X-PUBLISHED-TTL:PT1H
BEGIN:VTIMEZONE
TZID:America/New_York
BEGIN:DAYLIGHT
TZOFFSETFROM:-0500
TZOFFSETTO:-0400
TZNAME:EDT
DTSTART:20240310T070000
END:DAYLIGHT
BEGIN:STANDARD
TZOFFSETFROM:-0400
TZOFFSETTO:-0500
TZNAME:EST
DTSTART:20241103T060000
END:STANDARD
BEGIN:DAYLIGHT
TZOFFSETFROM:-0500
TZOFFSETTO:-0400
TZNAME:EDT
DTSTART:20250309T070000
END:DAYLIGHT
BEGIN:STANDARD
TZOFFSETFROM:-0400
TZOFFSETTO:-0500
TZNAME:EST
DTSTART:20251102T060000
END:STANDARD
BEGIN:DAYLIGHT
TZOFFSETFROM:-0500
TZOFFSETTO:-0400
TZNAME:EDT
DTSTART:20260308T070000
END:DAYLIGHT
BEGIN:STANDARD
TZOFFSETFROM:-0400
TZOFFSETTO:-0500
TZNAME:EST
DTSTART:20261101T060000
END:STANDARD
BEGIN:DAYLIGHT
TZOFFSETFROM:-0500
TZOFFSETTO:-0400
TZNAME:EDT
DTSTART:20270314T070000
END:DAYLIGHT
BEGIN:STANDARD
TZOFFSETFROM:-0400
TZOFFSETTO:-0500
TZNAME:EST
DTSTART:20271107T060000
END:STANDARD
END:VTIMEZONE
BEGIN:VEVENT
DTSTART;TZID=America/New_York:20251128T180000
DTEND;TZID=America/New_York:20251128T210000
DTSTAMP:20260422T181712
CREATED:20251110T182048Z
LAST-MODIFIED:20251110T182048Z
UID:2161-1764352800-1764363600@districtbk.com
SUMMARY:Mix House
DESCRIPTION:Make District Bar & Kitchen your destination on Friday! The high-energy duo Mix House performs from 6:00 PM to 9:00 PM. \nWith their incredible harmonies and full sound\, they create the perfect atmosphere for dinner\, drinks\, and dancing. Don’t miss this guaranteed good time!
URL:https://districtbk.com/event/mix-house/
LOCATION:District Bar & Kitchen\, 110 S. Broadway St.\, Ocala\, Florida\, 34471
CATEGORIES:Live Music
ATTACH;FMTTYPE=image/jpeg:https://districtbk.com/wp-content/uploads/2025/09/254-DJI_0055-scaled.jpg
END:VEVENT
BEGIN:VEVENT
DTSTART;TZID=America/New_York:20251129T120000
DTEND;TZID=America/New_York:20251129T150000
DTSTAMP:20260422T181712
CREATED:20251110T182217Z
LAST-MODIFIED:20251110T182217Z
UID:2163-1764417600-1764428400@districtbk.com
SUMMARY:Gypsy Sparrow
DESCRIPTION:Elevate your Saturday afternoon! Join us from 12:00 PM to 3:00 PM for the captivating music of Gypsy Sparrow. \nKnown for a raw\, powerful\, and soulful voice\, Gypsy Sparrow covers a stunning “wingspan” of artists—from the bluesy soul of Ray LaMontagne and Tracy Chapman to modern pop hits and classic country. It’s the perfect\, dynamic soundtrack for enjoying lunch\, drinks\, and a great start to your weekend.
URL:https://districtbk.com/event/gypsy-sparrow/
LOCATION:District Bar & Kitchen\, 110 S. Broadway St.\, Ocala\, Florida\, 34471
CATEGORIES:Live Music
ATTACH;FMTTYPE=image/webp:https://districtbk.com/wp-content/uploads/2025/09/Gypsy-sparrow.webp
END:VEVENT
BEGIN:VEVENT
DTSTART;TZID=America/New_York:20251129T180000
DTEND;TZID=America/New_York:20251129T210000
DTSTAMP:20260422T181712
CREATED:20251110T182328Z
LAST-MODIFIED:20251110T182328Z
UID:2165-1764439200-1764450000@districtbk.com
SUMMARY:AJ in Evolution
DESCRIPTION:Get ready to kick your weekend into high gear! Join us this Saturday from 6:00 PM to 9:00 PM for the dynamic sounds of AJ in Evolution. \nThey’ll be delivering a powerful\, high-energy set of Alternative Rock\, gritty Blues\, and crowd-pleasing covers. Grab a drink\, settle in for dinner\, and prepare for an incredible night of serious musicianship and unforgettable tunes!
URL:https://districtbk.com/event/aj-in-evolution-3/
LOCATION:District Bar & Kitchen\, 110 S. Broadway St.\, Ocala\, Florida\, 34471
CATEGORIES:Live Music
ATTACH;FMTTYPE=image/jpeg:https://districtbk.com/wp-content/uploads/2025/09/aj-in-evolution.jpg
END:VEVENT
BEGIN:VEVENT
DTSTART;TZID=America/New_York:20251130T120000
DTEND;TZID=America/New_York:20251130T150000
DTSTAMP:20260422T181712
CREATED:20251110T182631Z
LAST-MODIFIED:20251110T182631Z
UID:2167-1764504000-1764514800@districtbk.com
SUMMARY:Lupe Frausto
DESCRIPTION:Start your Sunday with a soulful flourish! Join us from 12:00 PM to 3:00 PM for our delicious brunch menu and the incredible talents of Lupe Frausto. \nLupe brings a beautiful blend of acoustic rock and soulful covers\, often infused with a unique Spanish/Latin flavor. It’s the perfect\, warm\, and engaging soundtrack for your afternoon meal and mimosas. Don’t miss this captivating performance!
URL:https://districtbk.com/event/lupe-frausto/
LOCATION:District Bar & Kitchen\, 110 S. Broadway St.\, Ocala\, Florida\, 34471
CATEGORIES:Live Music
ATTACH;FMTTYPE=image/jpeg:https://districtbk.com/wp-content/uploads/2025/10/Lupe-F.jpg
END:VEVENT
BEGIN:VEVENT
DTSTART;TZID=America/New_York:20251204T180000
DTEND;TZID=America/New_York:20251204T210000
DTSTAMP:20260422T181712
CREATED:20251128T195439Z
LAST-MODIFIED:20251128T195439Z
UID:2235-1764871200-1764882000@districtbk.com
SUMMARY:Peaches & Karim
DESCRIPTION:Experience an unforgettable evening with Peaches & Karim\, the Ocala-based acoustic and drum duo known for their eclectic mix of genres. Their setlist spans timeless classics and modern hits — from Frank Sinatra and Nat King Cole to Post Malone\, John Mayer\, and Billie Eilish — all reimagined with soulful vocals and rhythmic energy. As staples of the North Central Florida music scene\, they bring a vibrant\, genre-blending performance that keeps every audience engaged. Pair their dynamic sound with District’s scratch-made dishes and make the night even better by ordering online for the perfect dinner-and-music combo. \n  \n 
URL:https://districtbk.com/event/peaches-karim-2/
LOCATION:District Bar & Kitchen\, 110 S. Broadway St.\, Ocala\, Florida\, 34471
CATEGORIES:Live Music
ATTACH;FMTTYPE=image/jpeg:https://districtbk.com/wp-content/uploads/2025/11/Peaches-and-Karim-2.jpg
END:VEVENT
BEGIN:VEVENT
DTSTART;TZID=America/New_York:20251205T180000
DTEND;TZID=America/New_York:20251205T210000
DTSTAMP:20260422T181712
CREATED:20251128T195640Z
LAST-MODIFIED:20251128T195640Z
UID:2240-1764957600-1764968400@districtbk.com
SUMMARY:Miranda Madison
DESCRIPTION:Step back in time with Miranda Madison\, the Vintage Songstress\, as she brings the golden era of jazz and blues to life. Inspired by icons like Ella Fitzgerald and Billie Holiday\, Miranda’s honey-toned voice and sultry stage presence transform timeless melodies into unforgettable experiences. From soulful ballads to swinging classics\, her performance blends nostalgia with elegance — the perfect soundtrack for a Friday night in downtown Ocala. Pair the music with District’s scratch-made dishes and make the evening complete by ordering online for dinner and drinks while you enjoy the show.
URL:https://districtbk.com/event/miranda-madison/
LOCATION:District Bar & Kitchen\, 110 S. Broadway St.\, Ocala\, Florida\, 34471
CATEGORIES:Live Music
ATTACH;FMTTYPE=image/webp:https://districtbk.com/wp-content/uploads/2025/09/enhanced_photo-e1756897950799.webp
END:VEVENT
BEGIN:VEVENT
DTSTART;TZID=America/New_York:20251206T120000
DTEND;TZID=America/New_York:20251206T150000
DTSTAMP:20260422T181712
CREATED:20251128T194903Z
LAST-MODIFIED:20251128T194903Z
UID:2233-1765022400-1765033200@districtbk.com
SUMMARY:AJ in Evolution
DESCRIPTION:Get ready for a high-energy brunch set as AJ in Evolution brings their signature blend of alternative rock\, acoustic blues\, and crowd-pleasing covers to the stage. Frontman AJ Fritscher’s raw vocals and driving guitar work create a dynamic atmosphere that’s equal parts soulful and electrifying. Perfect for a Saturday afternoon\, their performance promises a mix of original tracks and reimagined classics that will keep guests engaged while enjoying District’s scratch-made dishes and online ordering convenience.
URL:https://districtbk.com/event/aj-in-evolution-4/
LOCATION:District Bar & Kitchen\, 110 S. Broadway St.\, Ocala\, Florida\, 34471
CATEGORIES:Live Music
ATTACH;FMTTYPE=image/jpeg:https://districtbk.com/wp-content/uploads/2025/09/aj-in-evolution.jpg
END:VEVENT
BEGIN:VEVENT
DTSTART;TZID=America/New_York:20251206T180000
DTEND;TZID=America/New_York:20251206T210000
DTSTAMP:20260422T181712
CREATED:20251128T195808Z
LAST-MODIFIED:20251128T195808Z
UID:2242-1765044000-1765054800@districtbk.com
SUMMARY:Gypsy Sparrow
DESCRIPTION:Unwind on a Saturday evening with Gypsy Sparrow\, the Ocala-based singer-songwriter known for his soulful blend of acoustic rock\, blues\, and heartfelt originals. Drawing inspiration from artists like U2\, Tracy Chapman\, and Ray LaMontagne\, Gypsy Sparrow delivers raw\, emotive performances that balance mellow covers with powerful original songs. With roots in generations of professional musicians\, his music carries authenticity and depth that resonates with every listener. Pair the performance with District’s scratch-made dishes and make the night even better by ordering online for the perfect dinner-and-music experienc
URL:https://districtbk.com/event/gypsy-sparrow-2/
LOCATION:District Bar & Kitchen\, 110 S. Broadway St.\, Ocala\, Florida\, 34471
CATEGORIES:Live Music
ATTACH;FMTTYPE=image/webp:https://districtbk.com/wp-content/uploads/2025/09/Gypsy-sparrow.webp
END:VEVENT
BEGIN:VEVENT
DTSTART;TZID=America/New_York:20251207T120000
DTEND;TZID=America/New_York:20251207T150000
DTSTAMP:20260422T181712
CREATED:20251128T200115Z
LAST-MODIFIED:20251128T200115Z
UID:2245-1765108800-1765119600@districtbk.com
SUMMARY:Gypsy Sparrow
DESCRIPTION:Ease into Sunday brunch with Gypsy Sparrow\, whose soulful mix of acoustic rock and blues sets the perfect tone for a relaxed afternoon. Known for heartfelt lyrics and authentic delivery\, his music blends mellow covers with originals that bring warmth and depth to the weekend.
URL:https://districtbk.com/event/gypsy-sparrow-3/
LOCATION:District Bar & Kitchen\, 110 S. Broadway St.\, Ocala\, Florida\, 34471
CATEGORIES:Live Music
ATTACH;FMTTYPE=image/webp:https://districtbk.com/wp-content/uploads/2025/09/Gypsy-sparrow.webp
END:VEVENT
BEGIN:VEVENT
DTSTART;TZID=America/New_York:20251211T180000
DTEND;TZID=America/New_York:20251211T210000
DTSTAMP:20260422T181712
CREATED:20251128T200601Z
LAST-MODIFIED:20251128T200601Z
UID:2247-1765476000-1765486800@districtbk.com
SUMMARY:Claire Vandiver
DESCRIPTION:Immerse yourself in the dreamy soundscapes of Claire V (Claire Vandiver)\, whose music fuses indie rock\, modern pop\, and cinematic textures. Her voice shifts effortlessly from soft and angelic to bold and commanding\, creating an emotional arc that captivates audiences
URL:https://districtbk.com/event/claire-vandiver-2/
LOCATION:District Bar & Kitchen\, 110 S. Broadway St.\, Ocala\, Florida\, 34471
CATEGORIES:Live Music
ATTACH;FMTTYPE=image/webp:https://districtbk.com/wp-content/uploads/2025/09/Clair-Van-Live-Music.webp
END:VEVENT
BEGIN:VEVENT
DTSTART;TZID=America/New_York:20251212T180000
DTEND;TZID=America/New_York:20251212T210000
DTSTAMP:20260422T181712
CREATED:20251128T200721Z
LAST-MODIFIED:20251128T200721Z
UID:2249-1765562400-1765573200@districtbk.com
SUMMARY:Ecliff Farrar
DESCRIPTION:Spend your Friday evening with Ecliff Farrar\, a Guyana-born artist now rooted in Ocala’s music scene. Known for his smooth blend of acoustic R&B\, soul\, and pop\, Ecliff’s warm vocals and heartfelt delivery make every performance feel personal and inviting.
URL:https://districtbk.com/event/ecliff-farrar-2/
LOCATION:District Bar & Kitchen\, 110 S. Broadway St.\, Ocala\, Florida\, 34471
CATEGORIES:Live Music
ATTACH;FMTTYPE=image/jpeg:https://districtbk.com/wp-content/uploads/2025/09/Ecliff-Musician-Live-e1757538966836.jpg
END:VEVENT
BEGIN:VEVENT
DTSTART;TZID=America/New_York:20251213T120000
DTEND;TZID=America/New_York:20251213T150000
DTSTAMP:20260422T181712
CREATED:20251128T200852Z
LAST-MODIFIED:20251128T200852Z
UID:2251-1765627200-1765638000@districtbk.com
SUMMARY:Claire Vandiver
DESCRIPTION:Ease into the weekend with Claire V\, whose ethereal mix of dream-pop and indie rock sets the perfect tone for a relaxed brunch. Her introspective lyrics and cinematic arrangements create a soothing yet powerful atmosphere.
URL:https://districtbk.com/event/claire-vandiver-3/
LOCATION:District Bar & Kitchen\, 110 S. Broadway St.\, Ocala\, Florida\, 34471
CATEGORIES:Live Music
ATTACH;FMTTYPE=image/webp:https://districtbk.com/wp-content/uploads/2025/09/Clair-Van-Live-Music.webp
END:VEVENT
BEGIN:VEVENT
DTSTART;TZID=America/New_York:20251213T180000
DTEND;TZID=America/New_York:20251213T210000
DTSTAMP:20260422T181712
CREATED:20251128T200958Z
LAST-MODIFIED:20251128T200959Z
UID:2253-1765648800-1765659600@districtbk.com
SUMMARY:Gypsy Sparrow
DESCRIPTION:Unwind on Saturday night with Gypsy Sparrow\, the Ocala-based singer-songwriter celebrated for his soulful blend of acoustic rock\, blues\, and heartfelt originals. Influenced by artists like U2\, Tracy Chapman\, and Ray LaMontagne\, his emotive performances balance mellow covers with powerful originals. \n 
URL:https://districtbk.com/event/gypsy-sparrow-4/
LOCATION:District Bar & Kitchen\, 110 S. Broadway St.\, Ocala\, Florida\, 34471
CATEGORIES:Live Music
ATTACH;FMTTYPE=image/webp:https://districtbk.com/wp-content/uploads/2025/09/Gypsy-sparrow.webp
END:VEVENT
BEGIN:VEVENT
DTSTART;TZID=America/New_York:20251214T120000
DTEND;TZID=America/New_York:20251214T150000
DTSTAMP:20260422T181712
CREATED:20251128T201149Z
LAST-MODIFIED:20251128T201149Z
UID:2255-1765713600-1765724400@districtbk.com
SUMMARY:AJ in Evolution
DESCRIPTION:Wrap up the weekend with AJ in Evolution\, delivering a high-energy mix of alternative rock\, acoustic blues\, and crowd-pleasing covers. Frontman AJ Fritscher’s raw vocals and driving guitar create a dynamic atmosphere perfect for a lively Sunday brunch.
URL:https://districtbk.com/event/aj-in-evolution-5/
LOCATION:District Bar & Kitchen\, 110 S. Broadway St.\, Ocala\, Florida\, 34471
CATEGORIES:Live Music
ATTACH;FMTTYPE=image/jpeg:https://districtbk.com/wp-content/uploads/2025/09/aj-in-evolution.jpg
END:VEVENT
BEGIN:VEVENT
DTSTART;TZID=America/New_York:20251218T180000
DTEND;TZID=America/New_York:20251218T210000
DTSTAMP:20260422T181712
CREATED:20251209T184956Z
LAST-MODIFIED:20251209T184956Z
UID:2355-1766080800-1766091600@districtbk.com
SUMMARY:Peaches & Karim
DESCRIPTION:Experience the eclectic energy of Peaches & Karim\, Ocala’s beloved acoustic-and-drum duo. Their setlist blends timeless classics with modern hits\, reimagined through soulful vocals and rhythmic flair. Enjoy the music alongside District’s great food and handcrafted drinks.
URL:https://districtbk.com/event/peaches-karim-3/
LOCATION:District Bar & Kitchen\, 110 S. Broadway St.\, Ocala\, Florida\, 34471
CATEGORIES:Live Music
ATTACH;FMTTYPE=image/jpeg:https://districtbk.com/wp-content/uploads/2025/11/Peaches-and-Karim-2.jpg
END:VEVENT
BEGIN:VEVENT
DTSTART;TZID=America/New_York:20251219T180000
DTEND;TZID=America/New_York:20251219T210000
DTSTAMP:20260422T181712
CREATED:20251209T185217Z
LAST-MODIFIED:20251209T185218Z
UID:2357-1766167200-1766178000@districtbk.com
SUMMARY:Seth Dukes
DESCRIPTION:Enjoy the smooth vocals and heartfelt acoustic style of Seth Dukes. From classic rock to modern Americana\, his performance delivers a laid-back yet engaging soundtrack for the evening. Pair the show with District’s scratch-made dishes and refreshing drinks.
URL:https://districtbk.com/event/seth-dukes-2/
LOCATION:District Bar & Kitchen\, 110 S. Broadway St.\, Ocala\, Florida\, 34471
CATEGORIES:Live Music
ATTACH;FMTTYPE=image/jpeg:https://districtbk.com/wp-content/uploads/2025/10/Seth-Dukes.jpg
END:VEVENT
BEGIN:VEVENT
DTSTART;TZID=America/New_York:20251220T120000
DTEND;TZID=America/New_York:20251220T150000
DTSTAMP:20260422T181712
CREATED:20251209T185331Z
LAST-MODIFIED:20251209T185331Z
UID:2359-1766232000-1766242800@districtbk.com
SUMMARY:Randy B
DESCRIPTION:Randy B brings soulful guitar work and upbeat rhythms to the stage. His versatile mix of blues\, rock\, and acoustic favorites creates the perfect backdrop for a relaxed midday gathering.\nSavor the tunes while enjoying District’s delicious food and drinks.
URL:https://districtbk.com/event/randy-b-2/
LOCATION:District Bar & Kitchen\, 110 S. Broadway St.\, Ocala\, Florida\, 34471
CATEGORIES:Live Music
ATTACH;FMTTYPE=image/jpeg:https://districtbk.com/wp-content/uploads/2025/10/Randy-B-Live-Music-e1759414591901.jpg
END:VEVENT
BEGIN:VEVENT
DTSTART;TZID=America/New_York:20251220T180000
DTEND;TZID=America/New_York:20251220T210000
DTSTAMP:20260422T181712
CREATED:20251209T185429Z
LAST-MODIFIED:20251217T151800Z
UID:2361-1766253600-1766264400@districtbk.com
SUMMARY:Gypsy Sparrow
DESCRIPTION:Gypsy Sparrow\, the Ocala-based singer-songwriter\, is celebrated for her acoustic rock and blues-infused originals. Her heartfelt lyrics and dynamic sound make every performance unforgettable.\nMake it a night of live music\, great food\, and drinks at District.
URL:https://districtbk.com/event/gypsy-sparrow-5/
LOCATION:District Bar & Kitchen\, 110 S. Broadway St.\, Ocala\, Florida\, 34471
CATEGORIES:Live Music
ATTACH;FMTTYPE=image/webp:https://districtbk.com/wp-content/uploads/2025/09/Gypsy-sparrow.webp
END:VEVENT
BEGIN:VEVENT
DTSTART;TZID=America/New_York:20251221T120000
DTEND;TZID=America/New_York:20251221T150000
DTSTAMP:20260422T181712
CREATED:20251209T185707Z
LAST-MODIFIED:20251209T185707Z
UID:2363-1766318400-1766329200@districtbk.com
SUMMARY:Miranda Madison
DESCRIPTION:Miranda Madison brings her vintage-inspired jazz and soulful vocals to the stage. Her timeless sound creates the perfect Sunday brunch atmosphere — enjoy the performance alongside District’s great food and refreshing drinks.
URL:https://districtbk.com/event/miranda-madison-2/
LOCATION:District Bar & Kitchen\, 110 S. Broadway St.\, Ocala\, Florida\, 34471
CATEGORIES:Live Music
ATTACH;FMTTYPE=image/webp:https://districtbk.com/wp-content/uploads/2025/09/enhanced_photo-e1756897950799.webp
END:VEVENT
BEGIN:VEVENT
DTSTART;TZID=America/New_York:20251226T180000
DTEND;TZID=America/New_York:20251226T210000
DTSTAMP:20260422T181712
CREATED:20251209T185916Z
LAST-MODIFIED:20251209T185916Z
UID:2365-1766772000-1766782800@districtbk.com
SUMMARY:Mix House
DESCRIPTION:Get ready for an energetic evening with Mix House\, blending rock\, pop\, and danceable grooves that keep the crowd moving. Pair the lively set with District’s scratch-made dishes and handcrafted drinks for a night to remember.
URL:https://districtbk.com/event/mix-house-2/
LOCATION:District Bar & Kitchen\, 110 S. Broadway St.\, Ocala\, Florida\, 34471
CATEGORIES:Live Music
ATTACH;FMTTYPE=image/jpeg:https://districtbk.com/wp-content/uploads/2025/09/254-DJI_0055-scaled.jpg
END:VEVENT
BEGIN:VEVENT
DTSTART;TZID=America/New_York:20251227T120000
DTEND;TZID=America/New_York:20251227T150000
DTSTAMP:20260422T181712
CREATED:20251209T190023Z
LAST-MODIFIED:20251209T190023Z
UID:2367-1766836800-1766847600@districtbk.com
SUMMARY:Gypsy Sparrow
DESCRIPTION:Gypsy Sparrow\, Ocala’s acoustic rock and blues-infused singer-songwriter\, delivers heartfelt originals and reimagined classics. Her Saturday afternoon set is the perfect backdrop for enjoying District’s delicious food and drinks.
URL:https://districtbk.com/event/gypsy-sparrow-6/
LOCATION:District Bar & Kitchen\, 110 S. Broadway St.\, Ocala\, Florida\, 34471
CATEGORIES:Live Music
ATTACH;FMTTYPE=image/webp:https://districtbk.com/wp-content/uploads/2025/09/Gypsy-sparrow.webp
END:VEVENT
BEGIN:VEVENT
DTSTART;TZID=America/New_York:20251227T180000
DTEND;TZID=America/New_York:20251227T210000
DTSTAMP:20260422T181712
CREATED:20251209T190138Z
LAST-MODIFIED:20251209T190138Z
UID:2369-1766858400-1766869200@districtbk.com
SUMMARY:AJ in Evolution
DESCRIPTION:AJ in Evolution lights up Saturday night with a high-energy mix of alternative rock\, acoustic blues\, and crowd-pleasing covers. Frontman AJ Fritscher’s raw vocals and driving guitar create a dynamic atmosphere that pairs perfectly with District’s scratch-made food and handcrafted drinks.
URL:https://districtbk.com/event/aj-in-evolution-6/
LOCATION:District Bar & Kitchen\, 110 S. Broadway St.\, Ocala\, Florida\, 34471
CATEGORIES:Live Music
ATTACH;FMTTYPE=image/jpeg:https://districtbk.com/wp-content/uploads/2025/09/aj-in-evolution.jpg
END:VEVENT
BEGIN:VEVENT
DTSTART;TZID=America/New_York:20251228T120000
DTEND;TZID=America/New_York:20251228T150000
DTSTAMP:20260422T181712
CREATED:20251209T190234Z
LAST-MODIFIED:20251209T190234Z
UID:2371-1766923200-1766934000@districtbk.com
SUMMARY:Aj in Evolution
DESCRIPTION:Ease into Sunday with AJ in Evolution\, bringing a more relaxed yet vibrant set of acoustic rock and blues. Their soulful delivery and engaging covers set the perfect tone for brunch\, complemented by District’s delicious food and refreshing drinks.
URL:https://districtbk.com/event/aj-in-evolution-7/
LOCATION:District Bar & Kitchen\, 110 S. Broadway St.\, Ocala\, Florida\, 34471
CATEGORIES:Live Music
ATTACH;FMTTYPE=image/jpeg:https://districtbk.com/wp-content/uploads/2025/09/aj-in-evolution.jpg
END:VEVENT
BEGIN:VEVENT
DTSTART;TZID=America/New_York:20260104T120000
DTEND;TZID=America/New_York:20260104T150000
DTSTAMP:20260422T181712
CREATED:20260103T173923Z
LAST-MODIFIED:20260103T173924Z
UID:2447-1767528000-1767538800@districtbk.com
SUMMARY:Conrad Marcum Band
DESCRIPTION:Kick off the first Sunday of 2026 with a high-energy performance by the Conrad Marcum Band! Known for their soulful blues and rock-infused sound\, they bring the perfect “full-band” energy to our Sunday Brunch. \nPair their powerhouse performance with our chef-inspired brunch favorites and a round of signature mimosas. Whether you’re fueling up for the week or keeping the holiday spirit alive\, we’ve got the best seats\, the best food\, and the best tunes in Ocala.
URL:https://districtbk.com/event/conrad-marcum-band/
LOCATION:District Bar & Kitchen\, 110 S. Broadway St.\, Ocala\, Florida\, 34471
CATEGORIES:Live Music
ATTACH;FMTTYPE=image/jpeg:https://districtbk.com/wp-content/uploads/2026/01/conrad-marcum-band.jpg
END:VEVENT
BEGIN:VEVENT
DTSTART;TZID=America/New_York:20260108T180000
DTEND;TZID=America/New_York:20260108T210000
DTSTAMP:20260422T181712
CREATED:20260103T174106Z
LAST-MODIFIED:20260103T174106Z
UID:2450-1767895200-1767906000@districtbk.com
SUMMARY:Acoustic Evenings: A Night with Lexi
DESCRIPTION:Ease into the weekend early with a captivating live set by Lexi. Her smooth\, melodic style is the ultimate soundtrack for a Thursday night unwind at District Bar & Kitchen. \nIt’s the perfect time to explore our craft cocktail menu and share a few appetizers with friends. Let Lexi’s soulful vocals set the mood while you enjoy a relaxed dinner in our signature atmosphere.
URL:https://districtbk.com/event/acoustic-evenings-a-night-with-lexi/
LOCATION:District Bar & Kitchen\, 110 S. Broadway St.\, Ocala\, Florida\, 34471
ATTACH;FMTTYPE=image/jpeg:https://districtbk.com/wp-content/uploads/2025/09/254-DJI_0055-scaled.jpg
END:VEVENT
BEGIN:VEVENT
DTSTART;TZID=America/New_York:20260109T180000
DTEND;TZID=America/New_York:20260109T210000
DTSTAMP:20260422T181712
CREATED:20260103T174244Z
LAST-MODIFIED:20260103T174245Z
UID:2452-1767981600-1767992400@districtbk.com
SUMMARY:Friday Night Vibes with Genevieve
DESCRIPTION:Friday nights are made for great music and even better company. Join us as Genevieve takes the stage\, bringing her unique flair and powerful presence to District Bar & Kitchen. \nAs the weekend kicks into gear\, treat yourself to a full chef-inspired meal followed by one of our decadent desserts. Grab a seat at the bar or settle into a booth—the cocktails are cold\, and the music is just getting started!
URL:https://districtbk.com/event/friday-night-vibes-with-genevieve/
LOCATION:District Bar & Kitchen\, 110 S. Broadway St.\, Ocala\, Florida\, 34471
CATEGORIES:Live Music
ATTACH;FMTTYPE=image/jpeg:https://districtbk.com/wp-content/uploads/2025/09/254-DJI_0055-scaled.jpg
END:VEVENT
BEGIN:VEVENT
DTSTART;TZID=America/New_York:20260110T120000
DTEND;TZID=America/New_York:20260110T150000
DTSTAMP:20260422T181712
CREATED:20260103T174407Z
LAST-MODIFIED:20260103T174408Z
UID:2454-1768046400-1768057200@districtbk.com
SUMMARY:Vintage Soul & Saturday Lunch with Miranda Madison
DESCRIPTION:Step back in time with the enchanting sounds of Miranda Madison. Specializing in vintage jazz and soulful classics\, Miranda brings a touch of old-school glamour to your Saturday afternoon. \nEnjoy a sophisticated lunch paired with a hand-crafted cocktail while Miranda’s stunning vocals fill the room. It’s a one-of-a-kind musical experience you won’t find anywhere else in town.
URL:https://districtbk.com/event/vintage-soul-saturday-lunch-with-miranda-madison/
LOCATION:District Bar & Kitchen\, 110 S. Broadway St.\, Ocala\, Florida\, 34471
CATEGORIES:Live Music
ATTACH;FMTTYPE=image/webp:https://districtbk.com/wp-content/uploads/2025/09/enhanced_photo-e1756897950799.webp
END:VEVENT
BEGIN:VEVENT
DTSTART;TZID=America/New_York:20260110T180000
DTEND;TZID=America/New_York:20260110T210000
DTSTAMP:20260422T181712
CREATED:20260103T174537Z
LAST-MODIFIED:20260103T174537Z
UID:2456-1768068000-1768078800@districtbk.com
SUMMARY:Saturday Night Soul-Sync with ECliff Farrar
DESCRIPTION:The Saturday celebration continues as we welcome a District favorite\, ECliff Farrar\, to the stage! ECliff’s signature blend of smooth acoustic R&B and pop covers creates the perfect Saturday night energy. \nSettle in for a premier dining experience\, complete with signature entrees and craft drinks. There’s no better place to spend your Saturday night than right here with ECliff and the District crew!
URL:https://districtbk.com/event/saturday-night-soul-sync-with-ecliff-farrar/
LOCATION:District Bar & Kitchen\, 110 S. Broadway St.\, Ocala\, Florida\, 34471
CATEGORIES:Live Music
ATTACH;FMTTYPE=image/jpeg:https://districtbk.com/wp-content/uploads/2025/09/Ecliff-Musician-Live-e1757538966836.jpg
END:VEVENT
BEGIN:VEVENT
DTSTART;TZID=America/New_York:20260111T120000
DTEND;TZID=America/New_York:20260111T150000
DTSTAMP:20260422T181712
CREATED:20260103T174659Z
LAST-MODIFIED:20260103T174659Z
UID:2458-1768132800-1768143600@districtbk.com
SUMMARY:The Sunday Cool-Down with Randy B
DESCRIPTION:Wrap up your weekend on a high note with the easy-going acoustic sounds of Randy B. His versatile set of fan-favorite covers is the ideal accompaniment to our famous Sunday Brunch. \nRelax with a bloody mary in hand and enjoy a leisurely midday meal as Randy B provides the perfect soundtrack to your Sunday. It’s all about good food\, good music\, and great vibes.
URL:https://districtbk.com/event/the-sunday-cool-down-with-randy-b/
LOCATION:Florida
CATEGORIES:Live Music
ATTACH;FMTTYPE=image/jpeg:https://districtbk.com/wp-content/uploads/2025/10/Randy-B-Live-Music-e1759414591901.jpg
END:VEVENT
BEGIN:VEVENT
DTSTART;TZID=America/New_York:20260122T180000
DTEND;TZID=America/New_York:20260122T210000
DTSTAMP:20260422T181712
CREATED:20260119T202828Z
LAST-MODIFIED:20260119T202834Z
UID:2547-1769104800-1769115600@districtbk.com
SUMMARY:Claire Vandiver
DESCRIPTION:Elevate your Thursday night with the perfect pairing of live music and artisan spirits. Claire Vandiver sets the mood while you explore our signature cocktail list—from smoked old fashioneds to refreshing seasonal creations. Pair your drinks with our fan-favorite Poke Tuna Nachos for a sophisticated mid-week treat.
URL:https://districtbk.com/event/claire-vandiver-4/
LOCATION:District Bar & Kitchen\, 110 S. Broadway St.\, Ocala\, Florida\, 34471
CATEGORIES:Live Music
ATTACH;FMTTYPE=image/webp:https://districtbk.com/wp-content/uploads/2025/09/Clair-Van-Live-Music.webp
END:VEVENT
END:VCALENDAR