BEGIN:VCALENDAR
VERSION:2.0
PRODID:-//District Bar &amp; Kitchen - ECPv6.15.12.2//NONSGML v1.0//EN
CALSCALE:GREGORIAN
METHOD:PUBLISH
X-ORIGINAL-URL:https://districtbk.com
X-WR-CALDESC:Events for District Bar &amp; Kitchen
REFRESH-INTERVAL;VALUE=DURATION:PT1H
X-Robots-Tag:noindex
X-PUBLISHED-TTL:PT1H
BEGIN:VTIMEZONE
TZID:America/New_York
BEGIN:DAYLIGHT
TZOFFSETFROM:-0500
TZOFFSETTO:-0400
TZNAME:EDT
DTSTART:20250309T070000
END:DAYLIGHT
BEGIN:STANDARD
TZOFFSETFROM:-0400
TZOFFSETTO:-0500
TZNAME:EST
DTSTART:20251102T060000
END:STANDARD
BEGIN:DAYLIGHT
TZOFFSETFROM:-0500
TZOFFSETTO:-0400
TZNAME:EDT
DTSTART:20260308T070000
END:DAYLIGHT
BEGIN:STANDARD
TZOFFSETFROM:-0400
TZOFFSETTO:-0500
TZNAME:EST
DTSTART:20261101T060000
END:STANDARD
BEGIN:DAYLIGHT
TZOFFSETFROM:-0500
TZOFFSETTO:-0400
TZNAME:EDT
DTSTART:20270314T070000
END:DAYLIGHT
BEGIN:STANDARD
TZOFFSETFROM:-0400
TZOFFSETTO:-0500
TZNAME:EST
DTSTART:20271107T060000
END:STANDARD
END:VTIMEZONE
BEGIN:VEVENT
DTSTART;TZID=America/New_York:20260402T180000
DTEND;TZID=America/New_York:20260402T210000
DTSTAMP:20260421T055604
CREATED:20260319T191743Z
LAST-MODIFIED:20260319T191743Z
UID:2711-1775152800-1775163600@districtbk.com
SUMMARY:Thursday Night Revival: Jeff Jaret Live
DESCRIPTION:Break up the work week with a premium pour and a live set. Join us at 6:00 PM for Jeff Jaret live at the District! \nOur bartenders are ready to serve up your favorite craft cocktails and local drafts while you enjoy the music in our unique upscale warehouse setting. Whether you’re stopping by for a quick drink or settling in for the evening\, there’s no better way to spend a Thursday in downtown Ocala.
URL:https://districtbk.com/event/thursday-night-revival-jeff-jaret-live/
LOCATION:District Bar & Kitchen\, 110 S. Broadway St.\, Ocala\, Florida\, 34471
CATEGORIES:Live Music
ATTACH;FMTTYPE=image/webp:https://districtbk.com/wp-content/uploads/2026/02/Jeff-Jaret-scaled.webp
END:VEVENT
END:VCALENDAR