BEGIN:VCALENDAR
VERSION:2.0
PRODID:-//District Bar &amp; Kitchen - ECPv6.15.12.2//NONSGML v1.0//EN
CALSCALE:GREGORIAN
METHOD:PUBLISH
X-WR-CALNAME:District Bar &amp; Kitchen
X-ORIGINAL-URL:https://districtbk.com
X-WR-CALDESC:Events for District Bar &amp; Kitchen
REFRESH-INTERVAL;VALUE=DURATION:PT1H
X-Robots-Tag:noindex
X-PUBLISHED-TTL:PT1H
BEGIN:VTIMEZONE
TZID:America/New_York
BEGIN:DAYLIGHT
TZOFFSETFROM:-0500
TZOFFSETTO:-0400
TZNAME:EDT
DTSTART:20250309T070000
END:DAYLIGHT
BEGIN:STANDARD
TZOFFSETFROM:-0400
TZOFFSETTO:-0500
TZNAME:EST
DTSTART:20251102T060000
END:STANDARD
BEGIN:DAYLIGHT
TZOFFSETFROM:-0500
TZOFFSETTO:-0400
TZNAME:EDT
DTSTART:20260308T070000
END:DAYLIGHT
BEGIN:STANDARD
TZOFFSETFROM:-0400
TZOFFSETTO:-0500
TZNAME:EST
DTSTART:20261101T060000
END:STANDARD
BEGIN:DAYLIGHT
TZOFFSETFROM:-0500
TZOFFSETTO:-0400
TZNAME:EDT
DTSTART:20270314T070000
END:DAYLIGHT
BEGIN:STANDARD
TZOFFSETFROM:-0400
TZOFFSETTO:-0500
TZNAME:EST
DTSTART:20271107T060000
END:STANDARD
END:VTIMEZONE
BEGIN:VEVENT
DTSTART;TZID=America/New_York:20260129T180000
DTEND;TZID=America/New_York:20260129T210000
DTSTAMP:20260421T045827
CREATED:20260119T204802Z
LAST-MODIFIED:20260119T204809Z
UID:2558-1769709600-1769720400@districtbk.com
SUMMARY:Handcrafted Spirits & Houston Keen
DESCRIPTION:Thursday nights are for refined tastes. Sip on a house-infused cocktail or a glass of fine wine while enjoying the soulful\, alternative sounds of Houston Keen. It’s the perfect time to try our Philly Cheese Steak Egg Rolls or the DBK Dip—made with our signature brisket and beef blend—while you unwind in the heart of downtown.
URL:https://districtbk.com/event/handcrafted-spirits-houston-keen/
LOCATION:District Bar & Kitchen\, 110 S. Broadway St.\, Ocala\, Florida\, 34471
CATEGORIES:Live Music
ATTACH;FMTTYPE=image/webp:https://districtbk.com/wp-content/uploads/2026/01/Houston-Keen.webp
END:VEVENT
END:VCALENDAR