BEGIN:VCALENDAR
VERSION:2.0
PRODID:-//District Bar &amp; Kitchen - ECPv6.15.12.2//NONSGML v1.0//EN
CALSCALE:GREGORIAN
METHOD:PUBLISH
X-WR-CALNAME:District Bar &amp; Kitchen
X-ORIGINAL-URL:https://districtbk.com
X-WR-CALDESC:Events for District Bar &amp; Kitchen
REFRESH-INTERVAL;VALUE=DURATION:PT1H
X-Robots-Tag:noindex
X-PUBLISHED-TTL:PT1H
BEGIN:VTIMEZONE
TZID:America/New_York
BEGIN:DAYLIGHT
TZOFFSETFROM:-0500
TZOFFSETTO:-0400
TZNAME:EDT
DTSTART:20250309T070000
END:DAYLIGHT
BEGIN:STANDARD
TZOFFSETFROM:-0400
TZOFFSETTO:-0500
TZNAME:EST
DTSTART:20251102T060000
END:STANDARD
BEGIN:DAYLIGHT
TZOFFSETFROM:-0500
TZOFFSETTO:-0400
TZNAME:EDT
DTSTART:20260308T070000
END:DAYLIGHT
BEGIN:STANDARD
TZOFFSETFROM:-0400
TZOFFSETTO:-0500
TZNAME:EST
DTSTART:20261101T060000
END:STANDARD
BEGIN:DAYLIGHT
TZOFFSETFROM:-0500
TZOFFSETTO:-0400
TZNAME:EDT
DTSTART:20270314T070000
END:DAYLIGHT
BEGIN:STANDARD
TZOFFSETFROM:-0400
TZOFFSETTO:-0500
TZNAME:EST
DTSTART:20271107T060000
END:STANDARD
END:VTIMEZONE
BEGIN:VEVENT
DTSTART;TZID=America/New_York:20260131T180000
DTEND;TZID=America/New_York:20260131T210000
DTSTAMP:20260421T084702
CREATED:20260119T210148Z
LAST-MODIFIED:20260119T210157Z
UID:2566-1769882400-1769893200@districtbk.com
SUMMARY:Evening Eats & AJ Evolution
DESCRIPTION:Saturday night dinner just got better. Enjoy the melodic rock and blues of AJ Evolution while you dive into our dinner menu. From Steak Frites with chimichurri to our Chorizo Shrimp & Grits\, our kitchen is firing up bold flavors to match the music. Don’t forget to ask our bartenders about our current cocktail specials!
URL:https://districtbk.com/event/evening-eats-aj-evolution/
LOCATION:District Bar & Kitchen\, 110 S. Broadway St.\, Ocala\, Florida\, 34471
CATEGORIES:Live Music
ATTACH;FMTTYPE=image/jpeg:https://districtbk.com/wp-content/uploads/2025/09/aj-in-evolution.jpg
END:VEVENT
END:VCALENDAR